BEGIN:VCALENDAR
VERSION:2.0
PRODID:-//Calendario de Eventos Gran Canaria - ECPv6.15.17.1//NONSGML v1.0//EN
CALSCALE:GREGORIAN
METHOD:PUBLISH
X-WR-CALNAME:Calendario de Eventos Gran Canaria
X-ORIGINAL-URL:https://calendarioeventos.com/en
X-WR-CALDESC:Events for Calendario de Eventos Gran Canaria
REFRESH-INTERVAL;VALUE=DURATION:PT1H
X-Robots-Tag:noindex
X-PUBLISHED-TTL:PT1H
BEGIN:VTIMEZONE
TZID:Europe/London
BEGIN:DAYLIGHT
TZOFFSETFROM:+0000
TZOFFSETTO:+0100
TZNAME:BST
DTSTART:20250330T010000
END:DAYLIGHT
BEGIN:STANDARD
TZOFFSETFROM:+0100
TZOFFSETTO:+0000
TZNAME:GMT
DTSTART:20251026T010000
END:STANDARD
BEGIN:DAYLIGHT
TZOFFSETFROM:+0000
TZOFFSETTO:+0100
TZNAME:BST
DTSTART:20260329T010000
END:DAYLIGHT
BEGIN:STANDARD
TZOFFSETFROM:+0100
TZOFFSETTO:+0000
TZNAME:GMT
DTSTART:20261025T010000
END:STANDARD
BEGIN:DAYLIGHT
TZOFFSETFROM:+0000
TZOFFSETTO:+0100
TZNAME:BST
DTSTART:20270328T010000
END:DAYLIGHT
BEGIN:STANDARD
TZOFFSETFROM:+0100
TZOFFSETTO:+0000
TZNAME:GMT
DTSTART:20271031T010000
END:STANDARD
END:VTIMEZONE
BEGIN:VEVENT
DTSTART;TZID=Europe/London:20260125T083000
DTEND;TZID=Europe/London:20260125T140000
DTSTAMP:20260421T105537
CREATED:20260105T101246Z
LAST-MODIFIED:20260122T165213Z
UID:49866-1769329800-1769349600@calendarioeventos.com
SUMMARY:Senderismo - Entre charcas\, cruces y almendros
DESCRIPTION:Senderismo – Entre charcas\, cruces y almendros en flor\, Gran Canaria\, con Bendaya Aventuras. \nTras estas lluvias\, que tanta falta le hace a nuestra isla\, y que esta ha recibido con tanta gratitud\, brindándonos unos paisajes\, que ya\, echábamos de menos. \nTipo Recorrido: Circular\nDificultad física: Media\nDistancia: 9.5 Km.\nDesnivel + 4040metros.\nDesnivel – 404 metros. \nEl procedimiento de participación será a través del enlace siguiente: \nhttps://forms.gle/nt95zzSQ4oz9h4t67 \n 
URL:https://calendarioeventos.com/en/evento/senderismo-entre-charcas-cruces-y-almendros/
LOCATION:Tejeda\, Tejeda\, Las Palmas\, 35360\, España
CATEGORIES:Actividades,Senderismo,Tejeda
ATTACH;FMTTYPE=image/png:https://calendarioeventos.com/wp-content/uploads/2026/01/Screenshot-2026-01-22-at-16-51-31-Cuarta-Semana-•-Instagram.avif
END:VEVENT
END:VCALENDAR