BEGIN:VCALENDAR
VERSION:2.0
PRODID:-//Calendario de Eventos Gran Canaria - ECPv6.15.17.1//NONSGML v1.0//EN
CALSCALE:GREGORIAN
METHOD:PUBLISH
X-WR-CALNAME:Calendario de Eventos Gran Canaria
X-ORIGINAL-URL:https://calendarioeventos.com/en
X-WR-CALDESC:Events for Calendario de Eventos Gran Canaria
REFRESH-INTERVAL;VALUE=DURATION:PT1H
X-Robots-Tag:noindex
X-PUBLISHED-TTL:PT1H
BEGIN:VTIMEZONE
TZID:Europe/London
BEGIN:DAYLIGHT
TZOFFSETFROM:+0000
TZOFFSETTO:+0100
TZNAME:BST
DTSTART:20250330T010000
END:DAYLIGHT
BEGIN:STANDARD
TZOFFSETFROM:+0100
TZOFFSETTO:+0000
TZNAME:GMT
DTSTART:20251026T010000
END:STANDARD
BEGIN:DAYLIGHT
TZOFFSETFROM:+0000
TZOFFSETTO:+0100
TZNAME:BST
DTSTART:20260329T010000
END:DAYLIGHT
BEGIN:STANDARD
TZOFFSETFROM:+0100
TZOFFSETTO:+0000
TZNAME:GMT
DTSTART:20261025T010000
END:STANDARD
BEGIN:DAYLIGHT
TZOFFSETFROM:+0000
TZOFFSETTO:+0100
TZNAME:BST
DTSTART:20270328T010000
END:DAYLIGHT
BEGIN:STANDARD
TZOFFSETFROM:+0100
TZOFFSETTO:+0000
TZNAME:GMT
DTSTART:20271031T010000
END:STANDARD
END:VTIMEZONE
BEGIN:VEVENT
DTSTART;TZID=Europe/London:20260117T083000
DTEND;TZID=Europe/London:20260117T140000
DTSTAMP:20260421T060608
CREATED:20260103T145041Z
LAST-MODIFIED:20260103T145041Z
UID:49379-1768638600-1768658400@calendarioeventos.com
SUMMARY:Senderismo - Firgas - Quintanilla
DESCRIPTION:Ruta de Senderismo – Firgas – Quintanilla organizada por la ULPGC y ejecutada por Vivac Aventura. \nEl Servicio de Deportes organiza rutas de ensueño a todos los niveles donde poder disfrutar de la naturaleza y paisajes de Gran Canaria. Conoce los senderos y sus caminos que te conducirán por pueblos con mucho encanto y pintorescos\, admira la flora y fauna del entorno\, observa las degolladas\, barrancos\, picos y creaciones rocosas de la naturaleza inigualables. \nEl recorrido tiene una distancia horizontal de 9\,5 kilómetros\, dificultad media y una duración aproximada de 4:00 h. \nPara más información e inscripción nuestra página web\, https://deportes.ulpgc.es/actividad/senderismo-firgas-quintanilla/ \nHorario de salida \nFuente Luminosa: 08:30 horas \nCampus de Tafira (Parada 168062):08:45 horas
URL:https://calendarioeventos.com/en/evento/senderismo-firgas-quintanilla/
LOCATION:Fuente Luminosa\, Pl. Fuero Real de Gran Canaria\, s/n\, 35004 Las Palmas de Gran Canaria\, Las Palmas
CATEGORIES:Actividades,Firgas,Santa Lucía de Tirajana,Senderismo
ATTACH;FMTTYPE=image/jpeg:https://calendarioeventos.com/wp-content/uploads/2026/01/agenda_balneario.avif
END:VEVENT
END:VCALENDAR