BEGIN:VCALENDAR
VERSION:2.0
PRODID:-//Calendario de Eventos Gran Canaria - ECPv6.15.17.1//NONSGML v1.0//EN
CALSCALE:GREGORIAN
METHOD:PUBLISH
X-WR-CALNAME:Calendario de Eventos Gran Canaria
X-ORIGINAL-URL:https://calendarioeventos.com/en
X-WR-CALDESC:Events for Calendario de Eventos Gran Canaria
REFRESH-INTERVAL;VALUE=DURATION:PT1H
X-Robots-Tag:noindex
X-PUBLISHED-TTL:PT1H
BEGIN:VTIMEZONE
TZID:Europe/London
BEGIN:DAYLIGHT
TZOFFSETFROM:+0000
TZOFFSETTO:+0100
TZNAME:BST
DTSTART:20250330T010000
END:DAYLIGHT
BEGIN:STANDARD
TZOFFSETFROM:+0100
TZOFFSETTO:+0000
TZNAME:GMT
DTSTART:20251026T010000
END:STANDARD
BEGIN:DAYLIGHT
TZOFFSETFROM:+0000
TZOFFSETTO:+0100
TZNAME:BST
DTSTART:20260329T010000
END:DAYLIGHT
BEGIN:STANDARD
TZOFFSETFROM:+0100
TZOFFSETTO:+0000
TZNAME:GMT
DTSTART:20261025T010000
END:STANDARD
BEGIN:DAYLIGHT
TZOFFSETFROM:+0000
TZOFFSETTO:+0100
TZNAME:BST
DTSTART:20270328T010000
END:DAYLIGHT
BEGIN:STANDARD
TZOFFSETFROM:+0100
TZOFFSETTO:+0000
TZNAME:GMT
DTSTART:20271031T010000
END:STANDARD
END:VTIMEZONE
BEGIN:VEVENT
DTSTART;TZID=Europe/London:20260221T083000
DTEND;TZID=Europe/London:20260221T153000
DTSTAMP:20260425T010354
CREATED:20260205T202857Z
LAST-MODIFIED:20260212T181507Z
UID:57271-1771662600-1771687800@calendarioeventos.com
SUMMARY:Senderismo - Gáldar y sus canteras
DESCRIPTION:Senderismo – Gáldar y sus canteras\, con subida al pico\, organizada por el Ayuntamiento de Arucas\, Gran Canaria. \nDistancia 11\,5km. \nDesnivel 486 positivos\, 486 negativos. \nDificultad media – alta. \nLas inscripciones se realizarán mediante la aplicación ‘Arucas Reservas Deportivas’ \nAntes de apuntarte\, revisa la ficha técnica de la ruta\, donde encontrarás información clave: distancia\, desnivel\, nivel de exigencia y otros detalles importantes para disfrutarla con seguridad.
URL:https://calendarioeventos.com/en/evento/senderismo-galdar-y-sus-canteras/
LOCATION:Gáldar\, 35460 Las Palmas
CATEGORIES:Actividades,Arucas,Gáldar,Senderismo
ATTACH;FMTTYPE=image/png:https://calendarioeventos.com/wp-content/uploads/2026/02/Screenshot-2026-02-05-at-20-27-00-Instagram.avif
END:VEVENT
END:VCALENDAR