BEGIN:VCALENDAR
VERSION:2.0
PRODID:-//Calendario de Eventos Gran Canaria - ECPv6.15.17.1//NONSGML v1.0//EN
CALSCALE:GREGORIAN
METHOD:PUBLISH
X-WR-CALNAME:Calendario de Eventos Gran Canaria
X-ORIGINAL-URL:https://calendarioeventos.com/en
X-WR-CALDESC:Events for Calendario de Eventos Gran Canaria
REFRESH-INTERVAL;VALUE=DURATION:PT1H
X-Robots-Tag:noindex
X-PUBLISHED-TTL:PT1H
BEGIN:VTIMEZONE
TZID:Europe/London
BEGIN:DAYLIGHT
TZOFFSETFROM:+0000
TZOFFSETTO:+0100
TZNAME:BST
DTSTART:20240331T010000
END:DAYLIGHT
BEGIN:STANDARD
TZOFFSETFROM:+0100
TZOFFSETTO:+0000
TZNAME:GMT
DTSTART:20241027T010000
END:STANDARD
BEGIN:DAYLIGHT
TZOFFSETFROM:+0000
TZOFFSETTO:+0100
TZNAME:BST
DTSTART:20250330T010000
END:DAYLIGHT
BEGIN:STANDARD
TZOFFSETFROM:+0100
TZOFFSETTO:+0000
TZNAME:GMT
DTSTART:20251026T010000
END:STANDARD
BEGIN:DAYLIGHT
TZOFFSETFROM:+0000
TZOFFSETTO:+0100
TZNAME:BST
DTSTART:20260329T010000
END:DAYLIGHT
BEGIN:STANDARD
TZOFFSETFROM:+0100
TZOFFSETTO:+0000
TZNAME:GMT
DTSTART:20261025T010000
END:STANDARD
END:VTIMEZONE
BEGIN:VEVENT
DTSTART;TZID=Europe/London:20251214T090000
DTEND;TZID=Europe/London:20251214T160000
DTSTAMP:20260424T051409
CREATED:20251204T124643Z
LAST-MODIFIED:20251204T124643Z
UID:40331-1765702800-1765728000@calendarioeventos.com
SUMMARY:Senderismo - Las Lagunetas - Laguna Valleseco
DESCRIPTION:Ruta de Senderismo – Lineal Las Lagunetas a Laguna Valleseco\, Gran Canaria\, por el Ayuntamiento de Mogán \nDuración de 5\,5 a 6 horas\, distancia 12\,3 km\, dificultad media. \nEl Ayuntamiento de Mogán organiza nuevas para este 2025. \nINSCRIPCIÓN⤵️ \nRUTAS EN SÁBADO: Lunes a miércoles (semana de celebración de la ruta).\nRUTAS EN DOMINGO: Lunes a jueves (semana de celebración de la ruta). \n662 884 207. Horario de atención: 8:00 a 18:00 horas (preferible Whatsapp).
URL:https://calendarioeventos.com/en/evento/senderismo-las-lagunetas-laguna-valleseco/
LOCATION:Mogán\, 35140 Las Palmas
CATEGORIES:Actividades,Mogán,Senderismo,Valleseco
ATTACH;FMTTYPE=image/jpeg:https://calendarioeventos.com/wp-content/uploads/2025/09/Screenshot-2025-08-29-at-21-50-08-Instagram.jpg
END:VEVENT
END:VCALENDAR