BEGIN:VCALENDAR
VERSION:2.0
PRODID:-//Calendario de Eventos Gran Canaria - ECPv6.15.17.1//NONSGML v1.0//EN
CALSCALE:GREGORIAN
METHOD:PUBLISH
X-WR-CALNAME:Calendario de Eventos Gran Canaria
X-ORIGINAL-URL:https://calendarioeventos.com/en
X-WR-CALDESC:Events for Calendario de Eventos Gran Canaria
REFRESH-INTERVAL;VALUE=DURATION:PT1H
X-Robots-Tag:noindex
X-PUBLISHED-TTL:PT1H
BEGIN:VTIMEZONE
TZID:Europe/London
BEGIN:DAYLIGHT
TZOFFSETFROM:+0000
TZOFFSETTO:+0100
TZNAME:BST
DTSTART:20240331T010000
END:DAYLIGHT
BEGIN:STANDARD
TZOFFSETFROM:+0100
TZOFFSETTO:+0000
TZNAME:GMT
DTSTART:20241027T010000
END:STANDARD
BEGIN:DAYLIGHT
TZOFFSETFROM:+0000
TZOFFSETTO:+0100
TZNAME:BST
DTSTART:20250330T010000
END:DAYLIGHT
BEGIN:STANDARD
TZOFFSETFROM:+0100
TZOFFSETTO:+0000
TZNAME:GMT
DTSTART:20251026T010000
END:STANDARD
BEGIN:DAYLIGHT
TZOFFSETFROM:+0000
TZOFFSETTO:+0100
TZNAME:BST
DTSTART:20260329T010000
END:DAYLIGHT
BEGIN:STANDARD
TZOFFSETFROM:+0100
TZOFFSETTO:+0000
TZNAME:GMT
DTSTART:20261025T010000
END:STANDARD
END:VTIMEZONE
BEGIN:VEVENT
DTSTART;TZID=Europe/London:20251116T083000
DTEND;TZID=Europe/London:20251116T170000
DTSTAMP:20260421T141123
CREATED:20251110T104901Z
LAST-MODIFIED:20251110T104901Z
UID:10008997-1763281800-1763312400@calendarioeventos.com
SUMMARY:Senderismo - Travesía de Tunte a Teror
DESCRIPTION:Senderismo -Travesía de Tunte a Teror organizada por el Ayuntamiento de Arucas\, Gran Canaria. \n“Travesía de Tunte a Teror»\, que se llevará a cabo el sábado\, 15 y domingo 16 de noviembre\, con pernocta en el Aula de La Naturaleza de Camaretas. \nInscripción a través de la APP Arucas Reservas Deportivas. \nLos y las participantes deberán consultar la ficha técnica de la ruta en la cual se indican datos importantes como la distancia\, desnivel\, dificultad y otras características a tener en cuenta. La ficha técnica incluye el cambio de itinerario y tiene varias modificaciones.
URL:https://calendarioeventos.com/en/evento/senderismo-travesia-de-tunte-a-teror/2025-11-16/
LOCATION:Plaza Tenderetunte
CATEGORIES:Actividades,Arucas,Senderismo
ATTACH;FMTTYPE=image/png:https://calendarioeventos.com/wp-content/uploads/2025/11/Screenshot-2025-11-10-at-10-47-07-Instagram.avif
END:VEVENT
END:VCALENDAR