BEGIN:VCALENDAR
VERSION:2.0
PRODID:-//Calendario de Eventos Gran Canaria - ECPv6.15.17.1//NONSGML v1.0//EN
CALSCALE:GREGORIAN
METHOD:PUBLISH
X-WR-CALNAME:Calendario de Eventos Gran Canaria
X-ORIGINAL-URL:https://calendarioeventos.com/en
X-WR-CALDESC:Events for Calendario de Eventos Gran Canaria
REFRESH-INTERVAL;VALUE=DURATION:PT1H
X-Robots-Tag:noindex
X-PUBLISHED-TTL:PT1H
BEGIN:VTIMEZONE
TZID:Europe/London
BEGIN:DAYLIGHT
TZOFFSETFROM:+0000
TZOFFSETTO:+0100
TZNAME:BST
DTSTART:20250330T010000
END:DAYLIGHT
BEGIN:STANDARD
TZOFFSETFROM:+0100
TZOFFSETTO:+0000
TZNAME:GMT
DTSTART:20251026T010000
END:STANDARD
BEGIN:DAYLIGHT
TZOFFSETFROM:+0000
TZOFFSETTO:+0100
TZNAME:BST
DTSTART:20260329T010000
END:DAYLIGHT
BEGIN:STANDARD
TZOFFSETFROM:+0100
TZOFFSETTO:+0000
TZNAME:GMT
DTSTART:20261025T010000
END:STANDARD
BEGIN:DAYLIGHT
TZOFFSETFROM:+0000
TZOFFSETTO:+0100
TZNAME:BST
DTSTART:20270328T010000
END:DAYLIGHT
BEGIN:STANDARD
TZOFFSETFROM:+0100
TZOFFSETTO:+0000
TZNAME:GMT
DTSTART:20271031T010000
END:STANDARD
END:VTIMEZONE
BEGIN:VEVENT
DTSTART;TZID=Europe/London:20260307T090000
DTEND;TZID=Europe/London:20260307T130000
DTSTAMP:20260420T203836
CREATED:20260226T132516Z
LAST-MODIFIED:20260226T132516Z
UID:62403-1772874000-1772888400@calendarioeventos.com
SUMMARY:Senderos En Familia - Risco Agate - Charco Azul
DESCRIPTION:Senderos En Familia – «Risco Agate – Charco Azul» organizada por el Ayuntamiento de Arucas\, Gran Canaria. \nEn lugar de la jornada de limpieza inicialmente programada en las Presas de El Pinto\, la actividad se desarrollará en el Risco de Agaete\, con un recorrido por el sendero que conduce al Charco Azul. \nLa iniciativa mantiene su carácter familiar y ofrece una nueva oportunidad para disfrutar de la naturaleza\, compartir tiempo en familia y descubrir uno de los rincones naturales más emblemáticos de la isla. \nInscripción: a partir del lunes 2 de marzo a las 9:00 horas pinchando en el enlace que se publicará en las redes sociales de Radio Arucas y en la app Konvoko. \n  \n 
URL:https://calendarioeventos.com/en/evento/senderos-en-familia-risco-agate-charco-azul/
LOCATION:El Risco\, 35489\, Las Palmas
CATEGORIES:Actividades,Agaete,Arucas,Deporte,Eventos gratuitos,Infantil,Senderismo
ATTACH;FMTTYPE=image/png:https://calendarioeventos.com/wp-content/uploads/2026/02/Screenshot-2026-02-26-at-13-23-16-Primera-Semana-•-Instagram.avif
END:VEVENT
END:VCALENDAR