BEGIN:VCALENDAR
VERSION:2.0
PRODID:-//Calendario de Eventos Gran Canaria - ECPv6.15.17.1//NONSGML v1.0//EN
CALSCALE:GREGORIAN
METHOD:PUBLISH
X-WR-CALNAME:Calendario de Eventos Gran Canaria
X-ORIGINAL-URL:https://calendarioeventos.com/en
X-WR-CALDESC:Events for Calendario de Eventos Gran Canaria
REFRESH-INTERVAL;VALUE=DURATION:PT1H
X-Robots-Tag:noindex
X-PUBLISHED-TTL:PT1H
BEGIN:VTIMEZONE
TZID:Europe/London
BEGIN:DAYLIGHT
TZOFFSETFROM:+0000
TZOFFSETTO:+0100
TZNAME:BST
DTSTART:20250330T010000
END:DAYLIGHT
BEGIN:STANDARD
TZOFFSETFROM:+0100
TZOFFSETTO:+0000
TZNAME:GMT
DTSTART:20251026T010000
END:STANDARD
BEGIN:DAYLIGHT
TZOFFSETFROM:+0000
TZOFFSETTO:+0100
TZNAME:BST
DTSTART:20260329T010000
END:DAYLIGHT
BEGIN:STANDARD
TZOFFSETFROM:+0100
TZOFFSETTO:+0000
TZNAME:GMT
DTSTART:20261025T010000
END:STANDARD
BEGIN:DAYLIGHT
TZOFFSETFROM:+0000
TZOFFSETTO:+0100
TZNAME:BST
DTSTART:20270328T010000
END:DAYLIGHT
BEGIN:STANDARD
TZOFFSETFROM:+0100
TZOFFSETTO:+0000
TZNAME:GMT
DTSTART:20271031T010000
END:STANDARD
END:VTIMEZONE
BEGIN:VEVENT
DTSTART;TZID=Europe/London:20260108T110000
DTEND;TZID=Europe/London:20260108T120000
DTSTAMP:20260425T043224
CREATED:20260107T211421Z
LAST-MODIFIED:20260107T211421Z
UID:50332-1767870000-1767873600@calendarioeventos.com
SUMMARY:Sorteo tema Carnaval La Aldea
DESCRIPTION:Sorteo del tema del Carnaval 2026 de La Aldea\, en el Salón de Plenos del Ayuntamiento. \n🎈 El sorteo del tema estará a cargo de los chicos y chicas del Centro Ocupacional de Personas con Discapacidad\, en un acto lleno de ilusión\, participación e inclusión ❤️ \n🎊 Muy pronto conoceremos el tema que marcará nuestro Carnaval.
URL:https://calendarioeventos.com/en/evento/sorteo-tema-carnaval-la-aldea/
LOCATION:Ayuntamiento de La Aldea de San Nicolás\, C. Real\, 28\, 35470 La Aldea de San Nicolas de Tolentino\, Las Palmas
CATEGORIES:Actividades,Carnaval,Eventos gratuitos,La Aldea
ATTACH;FMTTYPE=image/png:https://calendarioeventos.com/wp-content/uploads/2026/01/Screenshot-2026-01-07-at-21-11-41-Instagram.avif
END:VEVENT
END:VCALENDAR