BEGIN:VCALENDAR
VERSION:2.0
PRODID:-//Calendario de Eventos Gran Canaria - ECPv6.15.17.1//NONSGML v1.0//EN
CALSCALE:GREGORIAN
METHOD:PUBLISH
X-WR-CALNAME:Calendario de Eventos Gran Canaria
X-ORIGINAL-URL:https://calendarioeventos.com/en
X-WR-CALDESC:Events for Calendario de Eventos Gran Canaria
REFRESH-INTERVAL;VALUE=DURATION:PT1H
X-Robots-Tag:noindex
X-PUBLISHED-TTL:PT1H
BEGIN:VTIMEZONE
TZID:Europe/London
BEGIN:DAYLIGHT
TZOFFSETFROM:+0000
TZOFFSETTO:+0100
TZNAME:BST
DTSTART:20240331T010000
END:DAYLIGHT
BEGIN:STANDARD
TZOFFSETFROM:+0100
TZOFFSETTO:+0000
TZNAME:GMT
DTSTART:20241027T010000
END:STANDARD
BEGIN:DAYLIGHT
TZOFFSETFROM:+0000
TZOFFSETTO:+0100
TZNAME:BST
DTSTART:20250330T010000
END:DAYLIGHT
BEGIN:STANDARD
TZOFFSETFROM:+0100
TZOFFSETTO:+0000
TZNAME:GMT
DTSTART:20251026T010000
END:STANDARD
BEGIN:DAYLIGHT
TZOFFSETFROM:+0000
TZOFFSETTO:+0100
TZNAME:BST
DTSTART:20260329T010000
END:DAYLIGHT
BEGIN:STANDARD
TZOFFSETFROM:+0100
TZOFFSETTO:+0000
TZNAME:GMT
DTSTART:20261025T010000
END:STANDARD
END:VTIMEZONE
BEGIN:VEVENT
DTSTART;TZID=Europe/London:20251219T173000
DTEND;TZID=Europe/London:20251219T223000
DTSTAMP:20260425T155706
CREATED:20251209T194421Z
LAST-MODIFIED:20251216T203441Z
UID:42204-1766165400-1766183400@calendarioeventos.com
SUMMARY:Sueña la Navidad 19 diciembre
DESCRIPTION:Programa de Sueña la Navidad para el 19 de diciembre\, en la Plaza de Canarias (Trasera Parque Santa Catalina)\, Las Palmas de Gran Canaria. \n\n\n17:30h – Taller de repostería: decoración de galletas navideñas que imparte @bakinmecrazylpa a los que agradecemos su complicidad\n19:30 a 21:00h – Dj.\n21:00 a 22:30h – Aseres
URL:https://calendarioeventos.com/en/evento/suena-la-navidad-19-diciembre/
LOCATION:Plaza de Canarias\, 35007 Las Palmas de Gran Canaria\, Las Palmas
CATEGORIES:Cultura,Eventos gratuitos,Gastronomía,Infantil,Las Palmas de GC,Música,Taller
ATTACH;FMTTYPE=image/png:https://calendarioeventos.com/wp-content/uploads/2025/12/Screenshot-2025-12-16-at-20-32-48-Instagram.avif
END:VEVENT
END:VCALENDAR