BEGIN:VCALENDAR
VERSION:2.0
PRODID:-//Calendario de Eventos Gran Canaria - ECPv6.15.17.1//NONSGML v1.0//EN
CALSCALE:GREGORIAN
METHOD:PUBLISH
X-WR-CALNAME:Calendario de Eventos Gran Canaria
X-ORIGINAL-URL:https://calendarioeventos.com/en
X-WR-CALDESC:Events for Calendario de Eventos Gran Canaria
REFRESH-INTERVAL;VALUE=DURATION:PT1H
X-Robots-Tag:noindex
X-PUBLISHED-TTL:PT1H
BEGIN:VTIMEZONE
TZID:Europe/London
BEGIN:DAYLIGHT
TZOFFSETFROM:+0000
TZOFFSETTO:+0100
TZNAME:BST
DTSTART:20240331T010000
END:DAYLIGHT
BEGIN:STANDARD
TZOFFSETFROM:+0100
TZOFFSETTO:+0000
TZNAME:GMT
DTSTART:20241027T010000
END:STANDARD
BEGIN:DAYLIGHT
TZOFFSETFROM:+0000
TZOFFSETTO:+0100
TZNAME:BST
DTSTART:20250330T010000
END:DAYLIGHT
BEGIN:STANDARD
TZOFFSETFROM:+0100
TZOFFSETTO:+0000
TZNAME:GMT
DTSTART:20251026T010000
END:STANDARD
BEGIN:DAYLIGHT
TZOFFSETFROM:+0000
TZOFFSETTO:+0100
TZNAME:BST
DTSTART:20260329T010000
END:DAYLIGHT
BEGIN:STANDARD
TZOFFSETFROM:+0100
TZOFFSETTO:+0000
TZNAME:GMT
DTSTART:20261025T010000
END:STANDARD
END:VTIMEZONE
BEGIN:VEVENT
DTSTART;TZID=Europe/London:20251213T180000
DTEND;TZID=Europe/London:20251213T210000
DTSTAMP:20260425T080407
CREATED:20251128T102005Z
LAST-MODIFIED:20251222T104348Z
UID:10010504-1765648800-1765659600@calendarioeventos.com
SUMMARY:Sueña la Navidad - Isleta-Puerto-Guanarteme
DESCRIPTION:Programa de Sueña la Navidad en el Distrito Isleta-Puerto-Guanarteme\, Las Palmas de Gran Canaria. \nsáb. 20\n\nFAMILIARCantacuentos\n\n\n\n\n\n18:00 h. \n\n\nPlaza de Las Coloradas \n\n\n\n\ndom. 21\n\nFAMILIARCasa de la Navidad con Papá Noel\n\n\n\n\n\n18:00 h. \n\n\nPlaza Pino Apolinario \n\n\n\n\nMUSICALLa Bella y la Bestia \n\n\n18:00 h. \n\n\nPlaza del Pilar \n\n\n\n\nsáb. 27\n\nCasa de la Navidad con los pajes de los Reyes Magos\n\n\n\n\n\n18:00 h. \n\n\nPlaza del Pueblo \n\n\n\n\nConcierto de Navidad \n\n\nCon la banda de música de La Aldea \n\n\n20:00 h. \n\n\nPlaza Sagrado Corazón de Jesús\, La Minilla Baja \n\n\n\n\ndom. 28\nFAMILIARCasa de la Navidad con los pajes de los Reyes Magos \n\n\n18:00 h. \n\n\nPlaza frente a la iglesia del Pino \n\n\nEnero\nsáb. 03\n\nFAMILIARPasacalle de los pajes de los Reyes Magos\n\n\n\n\n\n18:30 h. \n\n\nDesde la calle Prudencio Morales (junto al RC Victoria) hasta la Plaza Manuel Becerra de La Isleta \n\n\n\n\nCONCIERTOGóspel \n\n\n20:30 h. \n\n\nPlaza Manuel Becerra \n\n\n\n\ndom. 04\nFAMILIARPasacalle de los pajes de los Reyes Magos \n\n\n18:30 h. \n\n\nDesde el Parque de Santa Catalina a la Plaza del Pilar de Guanarteme
URL:https://calendarioeventos.com/en/evento/suena-la-navidad-isleta-puerto-guanarteme/2025-12-13/
LOCATION:Las Palmas de Gran Canaria\, Las Palmas
CATEGORIES:Concierto,Cultura,Eventos gratuitos,Infantil,Las Palmas de GC,Literatura,Música
ATTACH;FMTTYPE=image/png:https://calendarioeventos.com/wp-content/uploads/2025/11/Screenshot-2025-11-28-at-10-13-55-DISTRITOS-DISTRITOS-.pdf.avif
END:VEVENT
END:VCALENDAR