BEGIN:VCALENDAR
VERSION:2.0
PRODID:-//Calendario de Eventos Gran Canaria - ECPv6.15.17.1//NONSGML v1.0//EN
CALSCALE:GREGORIAN
METHOD:PUBLISH
X-WR-CALNAME:Calendario de Eventos Gran Canaria
X-ORIGINAL-URL:https://calendarioeventos.com/en
X-WR-CALDESC:Events for Calendario de Eventos Gran Canaria
REFRESH-INTERVAL;VALUE=DURATION:PT1H
X-Robots-Tag:noindex
X-PUBLISHED-TTL:PT1H
BEGIN:VTIMEZONE
TZID:Europe/London
BEGIN:DAYLIGHT
TZOFFSETFROM:+0000
TZOFFSETTO:+0100
TZNAME:BST
DTSTART:20250330T010000
END:DAYLIGHT
BEGIN:STANDARD
TZOFFSETFROM:+0100
TZOFFSETTO:+0000
TZNAME:GMT
DTSTART:20251026T010000
END:STANDARD
BEGIN:DAYLIGHT
TZOFFSETFROM:+0000
TZOFFSETTO:+0100
TZNAME:BST
DTSTART:20260329T010000
END:DAYLIGHT
BEGIN:STANDARD
TZOFFSETFROM:+0100
TZOFFSETTO:+0000
TZNAME:GMT
DTSTART:20261025T010000
END:STANDARD
BEGIN:DAYLIGHT
TZOFFSETFROM:+0000
TZOFFSETTO:+0100
TZNAME:BST
DTSTART:20270328T010000
END:DAYLIGHT
BEGIN:STANDARD
TZOFFSETFROM:+0100
TZOFFSETTO:+0000
TZNAME:GMT
DTSTART:20271031T010000
END:STANDARD
END:VTIMEZONE
BEGIN:VEVENT
DTSTART;TZID=Europe/London:20260307T160000
DTEND;TZID=Europe/London:20260307T200000
DTSTAMP:20260421T024235
CREATED:20260224T215719Z
LAST-MODIFIED:20260224T215721Z
UID:61791-1772899200-1772913600@calendarioeventos.com
SUMMARY:Taller - «3er curso de DaVinci Resolve»
DESCRIPTION:Taller — 3er curso de DaVinci Resolve en Las Palmas de Gran Canaria \n¡La academia Lumin Visual vuelve a la ciudad de Las Palmas con todo su entusiasmo y energía para impartir una nueva y mejorada edición de su ansiado 3er curso de edición profesional DaVinci Resolve! Esta vez el equipo docente está más deseoso que nunca para hacer que todos los asistentes y apasionados conozcan verdaderamente el intrincado arte y la magia escondida detrás de la edición de video. \nSi te maravilla el mundo audiovisual y pretendes descubrir y desgranar todo el potencial\, calidad y talento puro que hay detrás de cada corte fílmico y secuencia\, esta asombrosa propuesta no tiene parangón posible en la isla. Si además tienes en mente la posibilidad de formarte seriamente\, o si sencillamente quieres empezar a crear tus propias obras maravillosas para redes\, videos o cine con los más altos y pulidos resultados cien por cien profesionales\, esta actividad está definitivamente hecha para ti y te dará todas aquellas herramientas necesarias para elevar tus capacidades infinitamente. \nInscripciones por Whatsapp al Teléfono: 656 738 390
URL:https://calendarioeventos.com/en/evento/taller-3er-curso-de-davinci-resolve/
LOCATION:Servicio de Deportes de la Universidad de Las Palmas de Gran Canaria (Campus de Tafira)\, Servicio de Deportes de la ULPGC - Campus de Tafira\, 35017 Tafira Baja\, Las Palmas
CATEGORIES:Actividades,Cine,Las Palmas de GC,Taller
ATTACH;FMTTYPE=image/jpeg:https://calendarioeventos.com/wp-content/uploads/2026/02/taller-3er-curso-de-davinci-resolve-1771970236839.avif
END:VEVENT
END:VCALENDAR