BEGIN:VCALENDAR
VERSION:2.0
PRODID:-//Calendario de Eventos Gran Canaria - ECPv6.15.17.1//NONSGML v1.0//EN
CALSCALE:GREGORIAN
METHOD:PUBLISH
X-WR-CALNAME:Calendario de Eventos Gran Canaria
X-ORIGINAL-URL:https://calendarioeventos.com/en
X-WR-CALDESC:Events for Calendario de Eventos Gran Canaria
REFRESH-INTERVAL;VALUE=DURATION:PT1H
X-Robots-Tag:noindex
X-PUBLISHED-TTL:PT1H
BEGIN:VTIMEZONE
TZID:Europe/London
BEGIN:DAYLIGHT
TZOFFSETFROM:+0000
TZOFFSETTO:+0100
TZNAME:BST
DTSTART:20240331T010000
END:DAYLIGHT
BEGIN:STANDARD
TZOFFSETFROM:+0100
TZOFFSETTO:+0000
TZNAME:GMT
DTSTART:20241027T010000
END:STANDARD
BEGIN:DAYLIGHT
TZOFFSETFROM:+0000
TZOFFSETTO:+0100
TZNAME:BST
DTSTART:20250330T010000
END:DAYLIGHT
BEGIN:STANDARD
TZOFFSETFROM:+0100
TZOFFSETTO:+0000
TZNAME:GMT
DTSTART:20251026T010000
END:STANDARD
BEGIN:DAYLIGHT
TZOFFSETFROM:+0000
TZOFFSETTO:+0100
TZNAME:BST
DTSTART:20260329T010000
END:DAYLIGHT
BEGIN:STANDARD
TZOFFSETFROM:+0100
TZOFFSETTO:+0000
TZNAME:GMT
DTSTART:20261025T010000
END:STANDARD
END:VTIMEZONE
BEGIN:VEVENT
DTSTART;TZID=Europe/London:20251220T110000
DTEND;TZID=Europe/London:20251220T123000
DTSTAMP:20260425T142038
CREATED:20251015T103919Z
LAST-MODIFIED:20251211T160304Z
UID:17765-1766228400-1766233800@calendarioeventos.com
SUMMARY:Taller - Adopta un fantasma
DESCRIPTION:Taller infantil «Adopta un fantasma» en la Librería Aranfaybo\, Las Palmas de Gran Canaria. \nRito del Fantasma con el 🔥 Taller “Adopta un Fantasma” 🔥 de la mano de @melanigarzon. \nEn la quietud invernal de la librería\, algo pequeño agita el velo entre mundos. No es peligro… Es pura curiosidad hecha tela y puntada. 🧵✨ Este diciembre convocamos a los más jóvenes creadores para un rito suave y encantado: dar forma a un fantasma de peluche\, un espíritu amable que podrá acompañarlos en estas fiestas.\nUn taller para pequeños guardianes del misterio.\nUn encuentro donde lo tierno se mezcla con lo sobrenatural.\n✨ Que venga quien quiera crear… y despertar lo que duerme. 👻🧵
URL:https://calendarioeventos.com/en/evento/taller-adopta-un-fantasma/
LOCATION:Librería Aranfaybo\, C. Domingo J Navarro\, 23\, 35002 Las Palmas de Gran Canaria\, Las Palmas
CATEGORIES:Actividades,Infantil,Las Palmas de GC,Taller
ATTACH;FMTTYPE=image/png:https://calendarioeventos.com/wp-content/uploads/2025/10/Screenshot-2025-10-15-at-11-36-09-Instagram.avif
END:VEVENT
END:VCALENDAR