BEGIN:VCALENDAR
VERSION:2.0
PRODID:-//Calendario de Eventos Gran Canaria - ECPv6.15.17.1//NONSGML v1.0//EN
CALSCALE:GREGORIAN
METHOD:PUBLISH
X-WR-CALNAME:Calendario de Eventos Gran Canaria
X-ORIGINAL-URL:https://calendarioeventos.com/en
X-WR-CALDESC:Events for Calendario de Eventos Gran Canaria
REFRESH-INTERVAL;VALUE=DURATION:PT1H
X-Robots-Tag:noindex
X-PUBLISHED-TTL:PT1H
BEGIN:VTIMEZONE
TZID:Europe/London
BEGIN:DAYLIGHT
TZOFFSETFROM:+0000
TZOFFSETTO:+0100
TZNAME:BST
DTSTART:20250330T010000
END:DAYLIGHT
BEGIN:STANDARD
TZOFFSETFROM:+0100
TZOFFSETTO:+0000
TZNAME:GMT
DTSTART:20251026T010000
END:STANDARD
BEGIN:DAYLIGHT
TZOFFSETFROM:+0000
TZOFFSETTO:+0100
TZNAME:BST
DTSTART:20260329T010000
END:DAYLIGHT
BEGIN:STANDARD
TZOFFSETFROM:+0100
TZOFFSETTO:+0000
TZNAME:GMT
DTSTART:20261025T010000
END:STANDARD
BEGIN:DAYLIGHT
TZOFFSETFROM:+0000
TZOFFSETTO:+0100
TZNAME:BST
DTSTART:20270328T010000
END:DAYLIGHT
BEGIN:STANDARD
TZOFFSETFROM:+0100
TZOFFSETTO:+0000
TZNAME:GMT
DTSTART:20271031T010000
END:STANDARD
END:VTIMEZONE
BEGIN:VEVENT
DTSTART;TZID=Europe/London:20260317T163000
DTEND;TZID=Europe/London:20260317T200000
DTSTAMP:20260419T171140
CREATED:20260225T230953Z
LAST-MODIFIED:20260225T231038Z
UID:10014411-1773765000-1773777600@calendarioeventos.com
SUMMARY:Taller - «Agroturismo en fincas cafeteras»
DESCRIPTION:Taller — «Agroturismo en fincas cafeteras» en el Ayuntamiento de Agaete\, Agaete\, Gran Canaria. \nLos días 16 y 17 de marzo\, el Ayuntamiento de Agaete\, junto a la Agencia de Desarrollo Local\, organizan unas jornadas formativas sobre diseño de productos agroturísticos dirigidas especialmente a productores de café de las islas. \nEn la primera sesión (16 de marzo) se revisará toda la normativa aplicable\, los trámites necesarios desde las diferentes administraciones y casos prácticos sobre cómo iniciar una actividad complementaria relacionada con el turismo y cafetería dentro de una misma finca o entorno agrícola. \nEl martes 17\, se impartirá una parte eminentemente práctica orientada al diseño y prototipado del servicio para cada tipo de finca. \nInscripciones facilitando los datos de interés en info@agromia.es.
URL:https://calendarioeventos.com/en/evento/taller-agroturismo-en-fincas-cafeteras/2026-03-17/
LOCATION:Ayuntamiento de Agaete\, C. Antonio de Armas\, 1\, 35480 Agaete\, Las Palmas
CATEGORIES:Agaete,Cultura,Eventos gratuitos,Taller
ATTACH;FMTTYPE=image/jpeg:https://calendarioeventos.com/wp-content/uploads/2026/02/taller-agroturismo-en-fincas-cafeteras-1772060986157.avif
END:VEVENT
END:VCALENDAR