BEGIN:VCALENDAR
VERSION:2.0
PRODID:-//Calendario de Eventos Gran Canaria - ECPv6.15.17.1//NONSGML v1.0//EN
CALSCALE:GREGORIAN
METHOD:PUBLISH
X-WR-CALNAME:Calendario de Eventos Gran Canaria
X-ORIGINAL-URL:https://calendarioeventos.com/en
X-WR-CALDESC:Events for Calendario de Eventos Gran Canaria
REFRESH-INTERVAL;VALUE=DURATION:PT1H
X-Robots-Tag:noindex
X-PUBLISHED-TTL:PT1H
BEGIN:VTIMEZONE
TZID:Europe/London
BEGIN:DAYLIGHT
TZOFFSETFROM:+0000
TZOFFSETTO:+0100
TZNAME:BST
DTSTART:20240331T010000
END:DAYLIGHT
BEGIN:STANDARD
TZOFFSETFROM:+0100
TZOFFSETTO:+0000
TZNAME:GMT
DTSTART:20241027T010000
END:STANDARD
BEGIN:DAYLIGHT
TZOFFSETFROM:+0000
TZOFFSETTO:+0100
TZNAME:BST
DTSTART:20250330T010000
END:DAYLIGHT
BEGIN:STANDARD
TZOFFSETFROM:+0100
TZOFFSETTO:+0000
TZNAME:GMT
DTSTART:20251026T010000
END:STANDARD
BEGIN:DAYLIGHT
TZOFFSETFROM:+0000
TZOFFSETTO:+0100
TZNAME:BST
DTSTART:20260329T010000
END:DAYLIGHT
BEGIN:STANDARD
TZOFFSETFROM:+0100
TZOFFSETTO:+0000
TZNAME:GMT
DTSTART:20261025T010000
END:STANDARD
END:VTIMEZONE
BEGIN:VEVENT
DTSTART;TZID=Europe/London:20251213T110000
DTEND;TZID=Europe/London:20251213T123000
DTSTAMP:20260424T033957
CREATED:20250227T000000Z
LAST-MODIFIED:20251127T162925Z
UID:3125-1765623600-1765629000@calendarioeventos.com
SUMMARY:Taller - Bienestar corporal integral
DESCRIPTION:Taller «Sábados en la biblioteca: Taller de bienestar corporal integral» en la Biblioteca Insular de Las Palmas de Gran Canaria. \nPor Silvia Valverde. \nEdad: para mayores\, de 35 a 65 años. \n+Información\, inscripción y contenidos de los talleres en la Biblioteca Insular y https://visitasbiblioteca.grancanaria.com
URL:https://calendarioeventos.com/en/evento/taller-bienestar-corporal-integral/
LOCATION:Biblioteca Insular de Gran Canaria\, C. Remedios\, 7\, 35002 Las Palmas de Gran Canaria\, Las Palmas
CATEGORIES:Actividades,Eventos gratuitos,Las Palmas de GC,Municipio,Solo adultos,Taller
ATTACH;FMTTYPE=image/png:https://calendarioeventos.com/wp-content/uploads/2025/02/Captura-de-pantalla-2025-10-29-113116.avif
END:VEVENT
END:VCALENDAR