BEGIN:VCALENDAR
VERSION:2.0
PRODID:-//Calendario de Eventos Gran Canaria - ECPv6.15.17.1//NONSGML v1.0//EN
CALSCALE:GREGORIAN
METHOD:PUBLISH
X-WR-CALNAME:Calendario de Eventos Gran Canaria
X-ORIGINAL-URL:https://calendarioeventos.com/en
X-WR-CALDESC:Events for Calendario de Eventos Gran Canaria
REFRESH-INTERVAL;VALUE=DURATION:PT1H
X-Robots-Tag:noindex
X-PUBLISHED-TTL:PT1H
BEGIN:VTIMEZONE
TZID:Europe/London
BEGIN:DAYLIGHT
TZOFFSETFROM:+0000
TZOFFSETTO:+0100
TZNAME:BST
DTSTART:20240331T010000
END:DAYLIGHT
BEGIN:STANDARD
TZOFFSETFROM:+0100
TZOFFSETTO:+0000
TZNAME:GMT
DTSTART:20241027T010000
END:STANDARD
BEGIN:DAYLIGHT
TZOFFSETFROM:+0000
TZOFFSETTO:+0100
TZNAME:BST
DTSTART:20250330T010000
END:DAYLIGHT
BEGIN:STANDARD
TZOFFSETFROM:+0100
TZOFFSETTO:+0000
TZNAME:GMT
DTSTART:20251026T010000
END:STANDARD
BEGIN:DAYLIGHT
TZOFFSETFROM:+0000
TZOFFSETTO:+0100
TZNAME:BST
DTSTART:20260329T010000
END:DAYLIGHT
BEGIN:STANDARD
TZOFFSETFROM:+0100
TZOFFSETTO:+0000
TZNAME:GMT
DTSTART:20261025T010000
END:STANDARD
END:VTIMEZONE
BEGIN:VEVENT
DTSTART;TZID=Europe/London:20251218T170000
DTEND;TZID=Europe/London:20251218T190000
DTSTAMP:20260425T112619
CREATED:20250729T230000Z
LAST-MODIFIED:20251208T191023Z
UID:10010870-1766077200-1766084400@calendarioeventos.com
SUMMARY:Taller - Bordado 8pies
DESCRIPTION:Taller de Bordado con Ody Campanioni por 8pies en La Salita\, Arucas\, Gran Canaria. \nEste año quiero cerrar con aguja\, hilo… ¡y mucha creatividad! \nNo necesitas experiencia previa\, solo ganas de crear algo bonito con tus manos.\nAsí que si te apetece venir\, ¡reserva tu lugar! \nInscripciones (WhatsApp): 654423723 \n 
URL:https://calendarioeventos.com/en/evento/taller-bordado-8pies/2025-12-18/
LOCATION:La Salita de Ocho Piés\, C. Alcalde Suárez Franchy\, 32\, 35400 Arucas\, Las Palmas
CATEGORIES:Actividades,Arte,Arucas,Taller
ATTACH;FMTTYPE=image/png:https://calendarioeventos.com/wp-content/uploads/2025/07/Screenshot-2025-12-08-at-19-07-59-Instagram.avif
END:VEVENT
END:VCALENDAR