BEGIN:VCALENDAR
VERSION:2.0
PRODID:-//Calendario de Eventos Gran Canaria - ECPv6.15.17.1//NONSGML v1.0//EN
CALSCALE:GREGORIAN
METHOD:PUBLISH
X-WR-CALNAME:Calendario de Eventos Gran Canaria
X-ORIGINAL-URL:https://calendarioeventos.com/en
X-WR-CALDESC:Events for Calendario de Eventos Gran Canaria
REFRESH-INTERVAL;VALUE=DURATION:PT1H
X-Robots-Tag:noindex
X-PUBLISHED-TTL:PT1H
BEGIN:VTIMEZONE
TZID:Europe/London
BEGIN:DAYLIGHT
TZOFFSETFROM:+0000
TZOFFSETTO:+0100
TZNAME:BST
DTSTART:20250330T010000
END:DAYLIGHT
BEGIN:STANDARD
TZOFFSETFROM:+0100
TZOFFSETTO:+0000
TZNAME:GMT
DTSTART:20251026T010000
END:STANDARD
BEGIN:DAYLIGHT
TZOFFSETFROM:+0000
TZOFFSETTO:+0100
TZNAME:BST
DTSTART:20260329T010000
END:DAYLIGHT
BEGIN:STANDARD
TZOFFSETFROM:+0100
TZOFFSETTO:+0000
TZNAME:GMT
DTSTART:20261025T010000
END:STANDARD
BEGIN:DAYLIGHT
TZOFFSETFROM:+0000
TZOFFSETTO:+0100
TZNAME:BST
DTSTART:20270328T010000
END:DAYLIGHT
BEGIN:STANDARD
TZOFFSETFROM:+0100
TZOFFSETTO:+0000
TZNAME:GMT
DTSTART:20271031T010000
END:STANDARD
END:VTIMEZONE
BEGIN:VEVENT
DTSTART;TZID=Europe/London:20260124T110000
DTEND;TZID=Europe/London:20260124T130000
DTSTAMP:20260423T182947
CREATED:20251225T111458Z
LAST-MODIFIED:20251225T111458Z
UID:47288-1769252400-1769259600@calendarioeventos.com
SUMMARY:Taller - Cerámica Bodega Los Lirios
DESCRIPTION:Taller de Cerámica Bar con @umberceramica en Bodega Los Lirios\, Las Palmas de Gran Canaria. \n¿Te gustaría crear tu propio bowl y taza de desayuno con tus manos? 🖐️✨ \nEn este Taller de Cerámica aprenderás técnicas básicas de moldeado\, textura y acabado mientras creas piezas únicas y totalmente personalizadas. No se requiere experiencia previa\, solo ganas de disfrutar y desconectar. \nQué incluye tu experiencia: \n🏺 Taller práctico de 2\,5 horas \n✔️ Todos los materiales incluidos \n🥂 2 consumiciones \n🍴 Picoteo de delicias locales \n💬 Ambiente relajado y creativo para desconectar y disfrutar \n🍷 Tras el taller\, podrás disfrutar de Vinos & Tapas de 12:00 – 17:00 y completa tu experiencia artesanal con un toque gastronómico. \nReserva en este enlace. \n 
URL:https://calendarioeventos.com/en/evento/taller-ceramica-bodega-los-lirios/
LOCATION:Bodega Los Lirios\, Camino de los lirios\, 2\, 35017 Las Palmas de Gran Canaria\, Las Palmas
CATEGORIES:Actividades,Arte,Cultura,Las Palmas de GC,Municipio,Taller
END:VEVENT
END:VCALENDAR