BEGIN:VCALENDAR
VERSION:2.0
PRODID:-//Calendario de Eventos Gran Canaria - ECPv6.15.17.1//NONSGML v1.0//EN
CALSCALE:GREGORIAN
METHOD:PUBLISH
X-WR-CALNAME:Calendario de Eventos Gran Canaria
X-ORIGINAL-URL:https://calendarioeventos.com/en
X-WR-CALDESC:Events for Calendario de Eventos Gran Canaria
REFRESH-INTERVAL;VALUE=DURATION:PT1H
X-Robots-Tag:noindex
X-PUBLISHED-TTL:PT1H
BEGIN:VTIMEZONE
TZID:Europe/London
BEGIN:DAYLIGHT
TZOFFSETFROM:+0000
TZOFFSETTO:+0100
TZNAME:BST
DTSTART:20250330T010000
END:DAYLIGHT
BEGIN:STANDARD
TZOFFSETFROM:+0100
TZOFFSETTO:+0000
TZNAME:GMT
DTSTART:20251026T010000
END:STANDARD
BEGIN:DAYLIGHT
TZOFFSETFROM:+0000
TZOFFSETTO:+0100
TZNAME:BST
DTSTART:20260329T010000
END:DAYLIGHT
BEGIN:STANDARD
TZOFFSETFROM:+0100
TZOFFSETTO:+0000
TZNAME:GMT
DTSTART:20261025T010000
END:STANDARD
BEGIN:DAYLIGHT
TZOFFSETFROM:+0000
TZOFFSETTO:+0100
TZNAME:BST
DTSTART:20270328T010000
END:DAYLIGHT
BEGIN:STANDARD
TZOFFSETFROM:+0100
TZOFFSETTO:+0000
TZNAME:GMT
DTSTART:20271031T010000
END:STANDARD
END:VTIMEZONE
BEGIN:VEVENT
DTSTART;TZID=Europe/London:20260117T110000
DTEND;TZID=Europe/London:20260117T130000
DTSTAMP:20260421T055349
CREATED:20251225T111303Z
LAST-MODIFIED:20251225T111303Z
UID:47286-1768647600-1768654800@calendarioeventos.com
SUMMARY:Taller - Charms Bar
DESCRIPTION:Taller – Charms Bar con @lumecanarias en Bodega Los Lirios\, Las Palmas de Gran Canaria. \n¡Libera tu creatividad y diseña accesorios únicos y personalizados! 💎✨ \nEn el Taller Charms Bar\, aprenderás a combinar colores\, materiales y formas para crear colgantes\, llaveros y charms que reflejen tu estilo personal. Perfecto para regalar o para llevar contigo siempre. \nQué incluye tu experiencia: \n✨ Taller creativo de 2 horas \n🥂 2 consumiciones \n🍴 Picoteo de delicias locales \n🎉 Ambiente divertido\, inspirador y lleno de color \n🍷 Después del taller\, puedes disfrutar de Vinos & Tapas (12:00 – 17:00) en la bodega \nReserva en este enlace. \n 
URL:https://calendarioeventos.com/en/evento/taller-charms-bar/
LOCATION:Bodega Los Lirios\, Camino de los lirios\, 2\, 35017 Las Palmas de Gran Canaria\, Las Palmas
CATEGORIES:Actividades,Arte,Cultura,Las Palmas de GC,Municipio,Taller
END:VEVENT
END:VCALENDAR