BEGIN:VCALENDAR
VERSION:2.0
PRODID:-//Calendario de Eventos Gran Canaria - ECPv6.15.17.1//NONSGML v1.0//EN
CALSCALE:GREGORIAN
METHOD:PUBLISH
X-WR-CALNAME:Calendario de Eventos Gran Canaria
X-ORIGINAL-URL:https://calendarioeventos.com/en
X-WR-CALDESC:Events for Calendario de Eventos Gran Canaria
REFRESH-INTERVAL;VALUE=DURATION:PT1H
X-Robots-Tag:noindex
X-PUBLISHED-TTL:PT1H
BEGIN:VTIMEZONE
TZID:Europe/London
BEGIN:DAYLIGHT
TZOFFSETFROM:+0000
TZOFFSETTO:+0100
TZNAME:BST
DTSTART:20240331T010000
END:DAYLIGHT
BEGIN:STANDARD
TZOFFSETFROM:+0100
TZOFFSETTO:+0000
TZNAME:GMT
DTSTART:20241027T010000
END:STANDARD
BEGIN:DAYLIGHT
TZOFFSETFROM:+0000
TZOFFSETTO:+0100
TZNAME:BST
DTSTART:20250330T010000
END:DAYLIGHT
BEGIN:STANDARD
TZOFFSETFROM:+0100
TZOFFSETTO:+0000
TZNAME:GMT
DTSTART:20251026T010000
END:STANDARD
BEGIN:DAYLIGHT
TZOFFSETFROM:+0000
TZOFFSETTO:+0100
TZNAME:BST
DTSTART:20260329T010000
END:DAYLIGHT
BEGIN:STANDARD
TZOFFSETFROM:+0100
TZOFFSETTO:+0000
TZNAME:GMT
DTSTART:20261025T010000
END:STANDARD
END:VTIMEZONE
BEGIN:VEVENT
DTSTART;TZID=Europe/London:20251203T100000
DTEND;TZID=Europe/London:20251203T140000
DTSTAMP:20260425T183244
CREATED:20251127T135535Z
LAST-MODIFIED:20251127T135535Z
UID:37888-1764756000-1764770400@calendarioeventos.com
SUMMARY:Taller - Cocina consciente
DESCRIPTION:Taller «Cocina consciente» en el Aula 4 del Parque Popular de Agaete\, Gran Canaria. \nPLAZAS LIMITADAS\, necesaria INSCRIPCIÓN en 928898002 Ext 301 y 302 \nEl próximo 3 de diciembre en horario de 10 a 14 horas\, en el aula 4 Instalaciones de cocina del Parque Popular\, se llevará a cabo el taller “Cocina Consciente”. \nEste taller aborda la relación con la comida y su componente emocional y social\, patrones y hábitos alimentarios\, que condicionan las decisiones que tomamos como consumidores/as que impactan sobre nuestra salud y el medio ambiente. \nSe abordará este impacto y cómo hacer que sea lo más positivo posible\, poniendo en práctica la atención plena a las sensaciones que aparecen en la elección\, preparación e ingestión de los alimentos.
URL:https://calendarioeventos.com/en/evento/taller-cocina-consciente/
LOCATION:Salón de Actos del Parque Popular\, Agaete
CATEGORIES:Actividades,Agaete,Eventos gratuitos,Gastronomía,Taller
ATTACH;FMTTYPE=image/png:https://calendarioeventos.com/wp-content/uploads/2025/11/Screenshot-2025-11-27-at-13-53-22-Instagram.avif
END:VEVENT
END:VCALENDAR