BEGIN:VCALENDAR
VERSION:2.0
PRODID:-//Calendario de Eventos Gran Canaria - ECPv6.15.17.1//NONSGML v1.0//EN
CALSCALE:GREGORIAN
METHOD:PUBLISH
X-WR-CALNAME:Calendario de Eventos Gran Canaria
X-ORIGINAL-URL:https://calendarioeventos.com/en
X-WR-CALDESC:Events for Calendario de Eventos Gran Canaria
REFRESH-INTERVAL;VALUE=DURATION:PT1H
X-Robots-Tag:noindex
X-PUBLISHED-TTL:PT1H
BEGIN:VTIMEZONE
TZID:Europe/London
BEGIN:DAYLIGHT
TZOFFSETFROM:+0000
TZOFFSETTO:+0100
TZNAME:BST
DTSTART:20250330T010000
END:DAYLIGHT
BEGIN:STANDARD
TZOFFSETFROM:+0100
TZOFFSETTO:+0000
TZNAME:GMT
DTSTART:20251026T010000
END:STANDARD
BEGIN:DAYLIGHT
TZOFFSETFROM:+0000
TZOFFSETTO:+0100
TZNAME:BST
DTSTART:20260329T010000
END:DAYLIGHT
BEGIN:STANDARD
TZOFFSETFROM:+0100
TZOFFSETTO:+0000
TZNAME:GMT
DTSTART:20261025T010000
END:STANDARD
BEGIN:DAYLIGHT
TZOFFSETFROM:+0000
TZOFFSETTO:+0100
TZNAME:BST
DTSTART:20270328T010000
END:DAYLIGHT
BEGIN:STANDARD
TZOFFSETFROM:+0100
TZOFFSETTO:+0000
TZNAME:GMT
DTSTART:20271031T010000
END:STANDARD
END:VTIMEZONE
BEGIN:VEVENT
DTSTART;TZID=Europe/London:20260318T170000
DTEND;TZID=Europe/London:20260318T190000
DTSTAMP:20260419T212746
CREATED:20260313T175535Z
LAST-MODIFIED:20260314T091844Z
UID:10015187-1773853200-1773860400@calendarioeventos.com
SUMMARY:Taller — «¿Cómo Facilitar Dinámicas de Grupo?»
DESCRIPTION:Taller — «¿Cómo Facilitar Dinámicas de Grupo?» en el Centro UP Santa Catalina\, Las Palmas de Gran Canaria. \nLa Escuela de Ciudadanía de Gran Canaria impulsada por la Asociación Canaria de Universidades Populares (ACUP) y la Dirección Insular de Participación Ciudadana del Cabildo de Gran Canaria (Participa G.C.) en colaboración con el Ayuntamiento de Las Palmas de Gran Canaria\, te invita a participar en el taller: ¿Cómo Facilitar Dinámicas de Grupo? \nObjetivo: Aprender herramientas y técnicas para dinamizar grupos\, fomentar la participación y mejorar la comunicación y la toma de decisiones colectivas en espacios asociativos\, comunitarios o profesionales. \nDetalles del taller: Fecha: 16\, 18 y 23 de marzo de 2026. Hora: De 17:00h a 19:00h. \nLugar: Centro UP Santa Catalina – Calle Veintinueve de Abril\, s/n (junto al nº29)\, 35007\, Las Palmas de Gran Canaria. \nDuración: 6 horas. Formación gratuita\, plazas limitadas. Aprende técnicas prácticas para dinamizar grupos y facilitar procesos participativos de forma efectiva. Un espacio formativo para mejorar la participación\, el diálogo y el trabajo colaborativo. \nInscripción en este enlace
URL:https://calendarioeventos.com/en/evento/taller-como-facilitar-dinamicas-de-grupo/2026-03-18/
LOCATION:Centro UP Santa Catalina\, C. Veintinueve de Abril\, 31\, 35007 Las Palmas de Gran Canaria\, Las Palmas
CATEGORIES:Actividades,Eventos gratuitos,Las Palmas de GC,Taller
ATTACH;FMTTYPE=image/jpeg:https://calendarioeventos.com/wp-content/uploads/2026/03/taller-c-mo-facilitar-din-micas-de-grupo-1773424533375.jpeg
END:VEVENT
END:VCALENDAR