BEGIN:VCALENDAR
VERSION:2.0
PRODID:-//Calendario de Eventos Gran Canaria - ECPv6.15.17.1//NONSGML v1.0//EN
CALSCALE:GREGORIAN
METHOD:PUBLISH
X-WR-CALNAME:Calendario de Eventos Gran Canaria
X-ORIGINAL-URL:https://calendarioeventos.com/en
X-WR-CALDESC:Events for Calendario de Eventos Gran Canaria
REFRESH-INTERVAL;VALUE=DURATION:PT1H
X-Robots-Tag:noindex
X-PUBLISHED-TTL:PT1H
BEGIN:VTIMEZONE
TZID:Europe/London
BEGIN:DAYLIGHT
TZOFFSETFROM:+0000
TZOFFSETTO:+0100
TZNAME:BST
DTSTART:20250330T010000
END:DAYLIGHT
BEGIN:STANDARD
TZOFFSETFROM:+0100
TZOFFSETTO:+0000
TZNAME:GMT
DTSTART:20251026T010000
END:STANDARD
BEGIN:DAYLIGHT
TZOFFSETFROM:+0000
TZOFFSETTO:+0100
TZNAME:BST
DTSTART:20260329T010000
END:DAYLIGHT
BEGIN:STANDARD
TZOFFSETFROM:+0100
TZOFFSETTO:+0000
TZNAME:GMT
DTSTART:20261025T010000
END:STANDARD
BEGIN:DAYLIGHT
TZOFFSETFROM:+0000
TZOFFSETTO:+0100
TZNAME:BST
DTSTART:20270328T010000
END:DAYLIGHT
BEGIN:STANDARD
TZOFFSETFROM:+0100
TZOFFSETTO:+0000
TZNAME:GMT
DTSTART:20271031T010000
END:STANDARD
END:VTIMEZONE
BEGIN:VEVENT
DTSTART;TZID=Europe/London:20260302T181000
DTEND;TZID=Europe/London:20260302T194000
DTSTAMP:20260423T224340
CREATED:20260228T225543Z
LAST-MODIFIED:20260228T225613Z
UID:63325-1772475000-1772480400@calendarioeventos.com
SUMMARY:Taller — «Crea tu marca personal desde 0»
DESCRIPTION:Taller — «Crea tu marca personal desde 0» en la EASD Gran Canaria\, Las Palmas de Gran Canaria. \nLa profesional creativa Sara Tabraue desarrolla este taller práctico orientado a trabajar la identidad creativa y la proyección profesional del alumnado.  \nBajo el título «Crea tu marca personal desde 0»\, la actividad busca proporcionar herramientas clave para que los futuros profesionales del sector del diseño y el arte puedan definir su esencia y proyectar su carrera de manera sólida y coherente en el entorno actual.
URL:https://calendarioeventos.com/en/evento/taller-crea-tu-marca-personal-desde-0/
LOCATION:Escuela de Arte y Superior de Diseño Gran Canaria\, Av. de Canarias\, 44\, 35016 Las Palmas de Gran Canaria\, Las Palmas
CATEGORIES:Actividades,Las Palmas de GC,Taller
ATTACH;FMTTYPE=image/jpeg:https://calendarioeventos.com/wp-content/uploads/2026/02/taller-crea-tu-marca-personal-desde-0-1772319305987.avif
END:VEVENT
END:VCALENDAR