BEGIN:VCALENDAR
VERSION:2.0
PRODID:-//Calendario de Eventos Gran Canaria - ECPv6.15.17.1//NONSGML v1.0//EN
CALSCALE:GREGORIAN
METHOD:PUBLISH
X-WR-CALNAME:Calendario de Eventos Gran Canaria
X-ORIGINAL-URL:https://calendarioeventos.com/en
X-WR-CALDESC:Events for Calendario de Eventos Gran Canaria
REFRESH-INTERVAL;VALUE=DURATION:PT1H
X-Robots-Tag:noindex
X-PUBLISHED-TTL:PT1H
BEGIN:VTIMEZONE
TZID:Europe/London
BEGIN:DAYLIGHT
TZOFFSETFROM:+0000
TZOFFSETTO:+0100
TZNAME:BST
DTSTART:20240331T010000
END:DAYLIGHT
BEGIN:STANDARD
TZOFFSETFROM:+0100
TZOFFSETTO:+0000
TZNAME:GMT
DTSTART:20241027T010000
END:STANDARD
BEGIN:DAYLIGHT
TZOFFSETFROM:+0000
TZOFFSETTO:+0100
TZNAME:BST
DTSTART:20250330T010000
END:DAYLIGHT
BEGIN:STANDARD
TZOFFSETFROM:+0100
TZOFFSETTO:+0000
TZNAME:GMT
DTSTART:20251026T010000
END:STANDARD
BEGIN:DAYLIGHT
TZOFFSETFROM:+0000
TZOFFSETTO:+0100
TZNAME:BST
DTSTART:20260329T010000
END:DAYLIGHT
BEGIN:STANDARD
TZOFFSETFROM:+0100
TZOFFSETTO:+0000
TZNAME:GMT
DTSTART:20261025T010000
END:STANDARD
END:VTIMEZONE
BEGIN:VEVENT
DTSTART;TZID=Europe/London:20251218T180000
DTEND;TZID=Europe/London:20251218T200000
DTSTAMP:20260426T010551
CREATED:20251204T141505Z
LAST-MODIFIED:20251204T142220Z
UID:10010777-1766080800-1766088000@calendarioeventos.com
SUMMARY:Taller Creativo Navideño
DESCRIPTION:Taller Creativo Navideño en Supersick Studio\, Las Palmas de Gran Canaria. \nEn esta mesa no hay pavos\, ni langostinos\, ni vino. Bueno\, vino sí. Estamos todos sentados y guapos pero lo único que se come es el papel. \nTe sientas\, respiras\, miras a la de al lado que ya está recortando como si estuviera poseída por el espíritu de las navidades pasadas\, y de repente: zas. Entre bolis\, rotus\, tijeras\, oráculos y una bola de cristal\, empieza a pasar la magia. \nLuego sales de aquí con la misma bobería que se te queda después de tres vinos\, pero sin resaca… y con un vision board del Año del Caballo Dorado 2026 que te deja la cabeza más clarita que el caldo de año nuevo. \nQuién quiere empacharse y agobiarse estas fiestas? Yo lo que quiero es destrabarme\, pasarlo pipa y estar conectada. Y por eso hago estos talleres for you. \nPuedes venir con alguien que quieras mucho o regalárselo 🌹❤️ \nSi estas navidades quieres hacerle un hueco a algo diferente: siéntate a la mesa del estudio.\nEl resto\, lo hacemos juntas. \nMás info por privado.
URL:https://calendarioeventos.com/en/evento/taller-creativo-navideno/2025-12-18/
LOCATION:Supersick Studio\, Las Palmas de Gran Canaria
CATEGORIES:Actividades,Arte,Gastronomía,Las Palmas de GC,Literatura,Taller
ATTACH;FMTTYPE=image/jpeg:https://calendarioeventos.com/wp-content/uploads/2025/12/Sin-titulo-1.avif
END:VEVENT
END:VCALENDAR