BEGIN:VCALENDAR
VERSION:2.0
PRODID:-//Calendario de Eventos Gran Canaria - ECPv6.15.17.1//NONSGML v1.0//EN
CALSCALE:GREGORIAN
METHOD:PUBLISH
X-WR-CALNAME:Calendario de Eventos Gran Canaria
X-ORIGINAL-URL:https://calendarioeventos.com/en
X-WR-CALDESC:Events for Calendario de Eventos Gran Canaria
REFRESH-INTERVAL;VALUE=DURATION:PT1H
X-Robots-Tag:noindex
X-PUBLISHED-TTL:PT1H
BEGIN:VTIMEZONE
TZID:Europe/London
BEGIN:DAYLIGHT
TZOFFSETFROM:+0000
TZOFFSETTO:+0100
TZNAME:BST
DTSTART:20240331T010000
END:DAYLIGHT
BEGIN:STANDARD
TZOFFSETFROM:+0100
TZOFFSETTO:+0000
TZNAME:GMT
DTSTART:20241027T010000
END:STANDARD
BEGIN:DAYLIGHT
TZOFFSETFROM:+0000
TZOFFSETTO:+0100
TZNAME:BST
DTSTART:20250330T010000
END:DAYLIGHT
BEGIN:STANDARD
TZOFFSETFROM:+0100
TZOFFSETTO:+0000
TZNAME:GMT
DTSTART:20251026T010000
END:STANDARD
BEGIN:DAYLIGHT
TZOFFSETFROM:+0000
TZOFFSETTO:+0100
TZNAME:BST
DTSTART:20260329T010000
END:DAYLIGHT
BEGIN:STANDARD
TZOFFSETFROM:+0100
TZOFFSETTO:+0000
TZNAME:GMT
DTSTART:20261025T010000
END:STANDARD
END:VTIMEZONE
BEGIN:VEVENT
DTSTART;TZID=Europe/London:20251217T180000
DTEND;TZID=Europe/London:20251217T200000
DTSTAMP:20260425T184332
CREATED:20251210T100418Z
LAST-MODIFIED:20251210T100418Z
UID:42407-1765994400-1766001600@calendarioeventos.com
SUMMARY:Taller de Joyas Especial Navidad by Nussa
DESCRIPTION:Taller de Joyas Especial Navidad by Nussa Club en el Restaurante Vital – CC Las Arenas\, Las Palmas de Gran Canaria. \nTaller de Joyas Especial Navidad. Crea un set de joyas ideal para regalar (o regalarte) estas fiestas. Incluye packaging para la presentación. Además disfrutarás de una merienda que incluye bebida\, tosta y postre. \nReservas en este enlace. \n 
URL:https://calendarioeventos.com/en/evento/taller-de-joyas-especial-navidad-by-nussa/
LOCATION:Centro Comercial Las Arenas\, Ctra. del Rincón\, s/n\, 35010 Las Palmas de Gran Canaria\, Las Palmas
CATEGORIES:Actividades,Arte,Gastronomía,Las Palmas de GC,Taller
ATTACH;FMTTYPE=image/png:https://calendarioeventos.com/wp-content/uploads/2025/11/Captura-de-pantalla-2025-11-12-151946.avif
END:VEVENT
END:VCALENDAR