BEGIN:VCALENDAR
VERSION:2.0
PRODID:-//Calendario de Eventos Gran Canaria - ECPv6.15.17.1//NONSGML v1.0//EN
CALSCALE:GREGORIAN
METHOD:PUBLISH
X-WR-CALNAME:Calendario de Eventos Gran Canaria
X-ORIGINAL-URL:https://calendarioeventos.com/en
X-WR-CALDESC:Events for Calendario de Eventos Gran Canaria
REFRESH-INTERVAL;VALUE=DURATION:PT1H
X-Robots-Tag:noindex
X-PUBLISHED-TTL:PT1H
BEGIN:VTIMEZONE
TZID:Europe/London
BEGIN:DAYLIGHT
TZOFFSETFROM:+0000
TZOFFSETTO:+0100
TZNAME:BST
DTSTART:20250330T010000
END:DAYLIGHT
BEGIN:STANDARD
TZOFFSETFROM:+0100
TZOFFSETTO:+0000
TZNAME:GMT
DTSTART:20251026T010000
END:STANDARD
BEGIN:DAYLIGHT
TZOFFSETFROM:+0000
TZOFFSETTO:+0100
TZNAME:BST
DTSTART:20260329T010000
END:DAYLIGHT
BEGIN:STANDARD
TZOFFSETFROM:+0100
TZOFFSETTO:+0000
TZNAME:GMT
DTSTART:20261025T010000
END:STANDARD
BEGIN:DAYLIGHT
TZOFFSETFROM:+0000
TZOFFSETTO:+0100
TZNAME:BST
DTSTART:20270328T010000
END:DAYLIGHT
BEGIN:STANDARD
TZOFFSETFROM:+0100
TZOFFSETTO:+0000
TZNAME:GMT
DTSTART:20271031T010000
END:STANDARD
END:VTIMEZONE
BEGIN:VEVENT
DTSTART;TZID=Europe/London:20260324T173000
DTEND;TZID=Europe/London:20260324T193000
DTSTAMP:20260425T045014
CREATED:20260317T140328Z
LAST-MODIFIED:20260317T140328Z
UID:66632-1774373400-1774380600@calendarioeventos.com
SUMMARY:Taller — «El Llamado del Tintero»
DESCRIPTION:Taller de escritura creativa «El Llamado del Tintero» en la Librería Aranfaybo\, Las Palmas de Gran Canaria. \nEl Llamado del Tintero: 16 Horas de Creación. Se abren las puertas de la percepción en Aranfaybo. Hay historias que no se escriben\, se invocan. Bajo el cielo de los martes\, cuando el velo entre lo real y lo imaginado se vuelve más fino\, nos reuniremos para dar forma al caos a través de la palabra. Bajo la guía del maestro J.R. Navas\, iniciaremos un tránsito de 16 horas de alquimia literaria. No es solo un curso; es un compromiso con tu propia voz\, una búsqueda de la belleza en la sombra y la precisión en el relato. \nCada semana\, un nuevo encuentro. Cada sesión\, un peldaño más hacia la maestría de la ficción.  \nPrimer Encuentro: Martes\, 24 de marzo. La Hora Señalada: 17:30h a 19:30h. El Sacrificio: 16 horas de inmersión total distribuidas en sesiones semanales. El Custodio: J.R. Navas. ¿Estás preparado para que tu pluma dicte su propia voluntad? El cupo es limitado\, pues los círculos de poder requieren intimidad.  \nReserva tu lugar antes de que el tiempo selle la entrada. Asegura tu presencia: Envía un mensaje privado o contacta al 677 005 169 y sella tu matrícula.
URL:https://calendarioeventos.com/en/evento/taller-el-llamado-del-tintero/
LOCATION:Librería Aranfaybo\, C. Domingo J Navarro\, 23\, 35002 Las Palmas de Gran Canaria\, Las Palmas
CATEGORIES:Actividades,Las Palmas de GC,Literatura,Taller
ATTACH;FMTTYPE=image/jpeg:https://calendarioeventos.com/wp-content/uploads/2026/03/taller-el-llamado-del-tintero-1773756206814.jpeg
END:VEVENT
END:VCALENDAR