BEGIN:VCALENDAR
VERSION:2.0
PRODID:-//Calendario de Eventos Gran Canaria - ECPv6.15.17.1//NONSGML v1.0//EN
CALSCALE:GREGORIAN
METHOD:PUBLISH
X-WR-CALNAME:Calendario de Eventos Gran Canaria
X-ORIGINAL-URL:https://calendarioeventos.com/en
X-WR-CALDESC:Events for Calendario de Eventos Gran Canaria
REFRESH-INTERVAL;VALUE=DURATION:PT1H
X-Robots-Tag:noindex
X-PUBLISHED-TTL:PT1H
BEGIN:VTIMEZONE
TZID:Europe/London
BEGIN:DAYLIGHT
TZOFFSETFROM:+0000
TZOFFSETTO:+0100
TZNAME:BST
DTSTART:20240331T010000
END:DAYLIGHT
BEGIN:STANDARD
TZOFFSETFROM:+0100
TZOFFSETTO:+0000
TZNAME:GMT
DTSTART:20241027T010000
END:STANDARD
BEGIN:DAYLIGHT
TZOFFSETFROM:+0000
TZOFFSETTO:+0100
TZNAME:BST
DTSTART:20250330T010000
END:DAYLIGHT
BEGIN:STANDARD
TZOFFSETFROM:+0100
TZOFFSETTO:+0000
TZNAME:GMT
DTSTART:20251026T010000
END:STANDARD
BEGIN:DAYLIGHT
TZOFFSETFROM:+0000
TZOFFSETTO:+0100
TZNAME:BST
DTSTART:20260329T010000
END:DAYLIGHT
BEGIN:STANDARD
TZOFFSETFROM:+0100
TZOFFSETTO:+0000
TZNAME:GMT
DTSTART:20261025T010000
END:STANDARD
END:VTIMEZONE
BEGIN:VEVENT
DTSTART;TZID=Europe/London:20251216T160000
DTEND;TZID=Europe/London:20251216T173000
DTSTAMP:20260425T201320
CREATED:20251215T110750Z
LAST-MODIFIED:20251215T110750Z
UID:43803-1765900800-1765906200@calendarioeventos.com
SUMMARY:Taller - "El mundo de la discapacidad visto desde la empatía"
DESCRIPTION:Taller – «El mundo de la discapacidad visto desde la empatía» en CAP de Arguineguín\, Mogán\, Gran Canaria. \nParticipa en este taller práctico y vivencial donde se hablará sobre la discapacidad\, los prejuicios en torno a esta y de la capacidad individual para influir en la creación de una sociedad más inclusiva. \n🌍 ¿Cómo sería ponerse en la piel de una persona con discapacidad? \n🎯 ¿El mundo está realmente personado para las personas con capacidades diferentes? \nAbierto a todos los públicos\n📞Más información e inscripciones: 609164238 \n 
URL:https://calendarioeventos.com/en/evento/taller-el-mundo-de-la-discapacidad-visto-desde-la-empatia/
LOCATION:CAP\, Centro De Día para Mayores\, C. Tanausú\, 4\, 35120 Arguineguín\, Las Palmas
CATEGORIES:Actividades,Eventos gratuitos,Mogán,Municipio,Precio,Taller
ATTACH;FMTTYPE=image/png:https://calendarioeventos.com/wp-content/uploads/2025/12/Screenshot-2025-12-15-at-11-05-29-Instagram.avif
END:VEVENT
END:VCALENDAR