BEGIN:VCALENDAR
VERSION:2.0
PRODID:-//Calendario de Eventos Gran Canaria - ECPv6.15.17.1//NONSGML v1.0//EN
CALSCALE:GREGORIAN
METHOD:PUBLISH
X-WR-CALNAME:Calendario de Eventos Gran Canaria
X-ORIGINAL-URL:https://calendarioeventos.com/en
X-WR-CALDESC:Events for Calendario de Eventos Gran Canaria
REFRESH-INTERVAL;VALUE=DURATION:PT1H
X-Robots-Tag:noindex
X-PUBLISHED-TTL:PT1H
BEGIN:VTIMEZONE
TZID:Europe/London
BEGIN:DAYLIGHT
TZOFFSETFROM:+0000
TZOFFSETTO:+0100
TZNAME:BST
DTSTART:20240331T010000
END:DAYLIGHT
BEGIN:STANDARD
TZOFFSETFROM:+0100
TZOFFSETTO:+0000
TZNAME:GMT
DTSTART:20241027T010000
END:STANDARD
BEGIN:DAYLIGHT
TZOFFSETFROM:+0000
TZOFFSETTO:+0100
TZNAME:BST
DTSTART:20250330T010000
END:DAYLIGHT
BEGIN:STANDARD
TZOFFSETFROM:+0100
TZOFFSETTO:+0000
TZNAME:GMT
DTSTART:20251026T010000
END:STANDARD
BEGIN:DAYLIGHT
TZOFFSETFROM:+0000
TZOFFSETTO:+0100
TZNAME:BST
DTSTART:20260329T010000
END:DAYLIGHT
BEGIN:STANDARD
TZOFFSETFROM:+0100
TZOFFSETTO:+0000
TZNAME:GMT
DTSTART:20261025T010000
END:STANDARD
END:VTIMEZONE
BEGIN:VEVENT
DTSTART;TZID=Europe/London:20251217T103000
DTEND;TZID=Europe/London:20251217T120000
DTSTAMP:20260425T182548
CREATED:20251212T094644Z
LAST-MODIFIED:20251212T094644Z
UID:43072-1765967400-1765972800@calendarioeventos.com
SUMMARY:Taller - Enclave Violeta
DESCRIPTION:Taller «Enclave Violeta» para familias y profesorado en las Aulas de Formación de La Aldea de San Nicolás\, Gran Canaria. \nEl 17 de diciembre se celebrará un taller específico para familias y profesorado\, donde se ofrecerán recursos para acompañar a hijos e hijas en afectividad\, uso seguro de tecnologías y prevención de violencias\, además de compartir resultados preliminares. \nMás información e inscripción gratuita en proigualdad@aytolaaldea.com
URL:https://calendarioeventos.com/en/evento/taller-enclave-violeta/
LOCATION:Agencia de Empleo y Desarrollo Local\, 35470 La Aldea de San Nicolas de Tolentino\, Las Palmas
CATEGORIES:Actividades,Eventos gratuitos,La Aldea,Pintura,Taller
ATTACH;FMTTYPE=image/png:https://calendarioeventos.com/wp-content/uploads/2025/12/Screenshot-2025-12-12-at-09-42-26-Instagram.avif
END:VEVENT
END:VCALENDAR