BEGIN:VCALENDAR
VERSION:2.0
PRODID:-//Calendario de Eventos Gran Canaria - ECPv6.15.17.1//NONSGML v1.0//EN
CALSCALE:GREGORIAN
METHOD:PUBLISH
X-WR-CALNAME:Calendario de Eventos Gran Canaria
X-ORIGINAL-URL:https://calendarioeventos.com/en
X-WR-CALDESC:Events for Calendario de Eventos Gran Canaria
REFRESH-INTERVAL;VALUE=DURATION:PT1H
X-Robots-Tag:noindex
X-PUBLISHED-TTL:PT1H
BEGIN:VTIMEZONE
TZID:Europe/London
BEGIN:DAYLIGHT
TZOFFSETFROM:+0000
TZOFFSETTO:+0100
TZNAME:BST
DTSTART:20240331T010000
END:DAYLIGHT
BEGIN:STANDARD
TZOFFSETFROM:+0100
TZOFFSETTO:+0000
TZNAME:GMT
DTSTART:20241027T010000
END:STANDARD
BEGIN:DAYLIGHT
TZOFFSETFROM:+0000
TZOFFSETTO:+0100
TZNAME:BST
DTSTART:20250330T010000
END:DAYLIGHT
BEGIN:STANDARD
TZOFFSETFROM:+0100
TZOFFSETTO:+0000
TZNAME:GMT
DTSTART:20251026T010000
END:STANDARD
BEGIN:DAYLIGHT
TZOFFSETFROM:+0000
TZOFFSETTO:+0100
TZNAME:BST
DTSTART:20260329T010000
END:DAYLIGHT
BEGIN:STANDARD
TZOFFSETFROM:+0100
TZOFFSETTO:+0000
TZNAME:GMT
DTSTART:20261025T010000
END:STANDARD
END:VTIMEZONE
BEGIN:VEVENT
DTSTART;TZID=Europe/London:20251114T190000
DTEND;TZID=Europe/London:20251114T203000
DTSTAMP:20260419T161625
CREATED:20251105T165934Z
LAST-MODIFIED:20251105T170008Z
UID:10008847-1763146800-1763152200@calendarioeventos.com
SUMMARY:Taller - Estrategias preventivas
DESCRIPTION:Taller – Estrategias preventivas: recetas para tu salud mental\, en la Asociación Vecinal San Patricio\, Trasmontaña\, Arucas\, Gran Canaria. \nCultura\, vida saludable\, formación\, participación y comunidad en movimiento. Arucas\, un mes más\, late con fuerza gracias a su tejido asociativo. Arucas Participación Ciudadana.
URL:https://calendarioeventos.com/en/evento/taller-estrategias-preventivas/2025-11-14/
LOCATION:Asociación de vecinos/bar san patricio\, Cam. de la Cruz\, 35413 Arucas\, Las Palmas
CATEGORIES:Actividades,Arucas,Eventos gratuitos,Taller
ATTACH;FMTTYPE=image/png:https://calendarioeventos.com/wp-content/uploads/2025/11/Screenshot-2025-11-05-at-16-56-55-Instagram.avif
END:VEVENT
END:VCALENDAR