BEGIN:VCALENDAR
VERSION:2.0
PRODID:-//Calendario de Eventos Gran Canaria - ECPv6.15.17.1//NONSGML v1.0//EN
CALSCALE:GREGORIAN
METHOD:PUBLISH
X-WR-CALNAME:Calendario de Eventos Gran Canaria
X-ORIGINAL-URL:https://calendarioeventos.com/en
X-WR-CALDESC:Events for Calendario de Eventos Gran Canaria
REFRESH-INTERVAL;VALUE=DURATION:PT1H
X-Robots-Tag:noindex
X-PUBLISHED-TTL:PT1H
BEGIN:VTIMEZONE
TZID:Europe/London
BEGIN:DAYLIGHT
TZOFFSETFROM:+0000
TZOFFSETTO:+0100
TZNAME:BST
DTSTART:20240331T010000
END:DAYLIGHT
BEGIN:STANDARD
TZOFFSETFROM:+0100
TZOFFSETTO:+0000
TZNAME:GMT
DTSTART:20241027T010000
END:STANDARD
BEGIN:DAYLIGHT
TZOFFSETFROM:+0000
TZOFFSETTO:+0100
TZNAME:BST
DTSTART:20250330T010000
END:DAYLIGHT
BEGIN:STANDARD
TZOFFSETFROM:+0100
TZOFFSETTO:+0000
TZNAME:GMT
DTSTART:20251026T010000
END:STANDARD
BEGIN:DAYLIGHT
TZOFFSETFROM:+0000
TZOFFSETTO:+0100
TZNAME:BST
DTSTART:20260329T010000
END:DAYLIGHT
BEGIN:STANDARD
TZOFFSETFROM:+0100
TZOFFSETTO:+0000
TZNAME:GMT
DTSTART:20261025T010000
END:STANDARD
END:VTIMEZONE
BEGIN:VEVENT
DTSTART;TZID=Europe/London:20251217T180000
DTEND;TZID=Europe/London:20251217T190000
DTSTAMP:20260425T183517
CREATED:20251211T090837Z
LAST-MODIFIED:20251211T090837Z
UID:42572-1765994400-1765998000@calendarioeventos.com
SUMMARY:Taller - Exposición: Antropología
DESCRIPTION:Taller vinculado a la Exposición «Antropología» de Juan Cabrera en la Iglesia Hospitalaria San Pedro Mártir de Verona\, Telde\, Gran Canaria. \nDentro de la programación cultural vinculada a la muestra\, Juan Cabrera impartirá un taller el miércoles 17 a las 18:00 horas\, ofreciendo al público la oportunidad de acercarse a su proceso creativo y compartir un espacio de reflexión artística. \n 
URL:https://calendarioeventos.com/en/evento/taller-exposicion-antropologia/
LOCATION:Ermita de San Pedro Mártir\, 35200 Telde\, Las Palmas
CATEGORIES:Actividades,Arte,Eventos gratuitos,Taller,Telde
ATTACH;FMTTYPE=image/png:https://calendarioeventos.com/wp-content/uploads/2025/12/Screenshot-2025-12-11-at-09-06-59-Instagram.avif
END:VEVENT
END:VCALENDAR