BEGIN:VCALENDAR
VERSION:2.0
PRODID:-//Calendario de Eventos Gran Canaria - ECPv6.15.17.1//NONSGML v1.0//EN
CALSCALE:GREGORIAN
METHOD:PUBLISH
X-WR-CALNAME:Calendario de Eventos Gran Canaria
X-ORIGINAL-URL:https://calendarioeventos.com/en
X-WR-CALDESC:Events for Calendario de Eventos Gran Canaria
REFRESH-INTERVAL;VALUE=DURATION:PT1H
X-Robots-Tag:noindex
X-PUBLISHED-TTL:PT1H
BEGIN:VTIMEZONE
TZID:Europe/London
BEGIN:DAYLIGHT
TZOFFSETFROM:+0000
TZOFFSETTO:+0100
TZNAME:BST
DTSTART:20250330T010000
END:DAYLIGHT
BEGIN:STANDARD
TZOFFSETFROM:+0100
TZOFFSETTO:+0000
TZNAME:GMT
DTSTART:20251026T010000
END:STANDARD
BEGIN:DAYLIGHT
TZOFFSETFROM:+0000
TZOFFSETTO:+0100
TZNAME:BST
DTSTART:20260329T010000
END:DAYLIGHT
BEGIN:STANDARD
TZOFFSETFROM:+0100
TZOFFSETTO:+0000
TZNAME:GMT
DTSTART:20261025T010000
END:STANDARD
BEGIN:DAYLIGHT
TZOFFSETFROM:+0000
TZOFFSETTO:+0100
TZNAME:BST
DTSTART:20270328T010000
END:DAYLIGHT
BEGIN:STANDARD
TZOFFSETFROM:+0100
TZOFFSETTO:+0000
TZNAME:GMT
DTSTART:20271031T010000
END:STANDARD
END:VTIMEZONE
BEGIN:VEVENT
DTSTART;TZID=Europe/London:20260321T113000
DTEND;TZID=Europe/London:20260321T123000
DTSTAMP:20260419T172132
CREATED:20251013T110826Z
LAST-MODIFIED:20260320T104553Z
UID:16758-1774092600-1774096200@calendarioeventos.com
SUMMARY:Taller - Filosofía para peques
DESCRIPTION:Taller «Filosofía para peques» en la Biblioteca Saulo Torón\, Telde\, Gran Canaria. \n🧠💬🎨\nUn espacio para pensar\, dialogar\, jugar y crear. \nEn esta sesión exploraremos juntos una pregunta muy importante: \n💜 ¿Qué es la amistad? \nA través de juegos\, diálogo\, arte y reflexión\, los niños y niñas podrán compartir ideas\, imaginar respuestas y escuchar las de los demás\, desarrollando su pensamiento crítico\, ético y creativo. \nNo es necesario haber asistido a sesiones anteriores para participar. \nFacilita: Nilsa Perdomo \nInscripciones de forma presencial en la Biblioteca Saulo Torón o llamando al teléfono ☎️ 828 014 706. \n 
URL:https://calendarioeventos.com/en/evento/taller-filosofia-para-peques/
LOCATION:Biblioteca Saulo Torón (Arnao)\, Av. del Cabildo Insular\, s/n\, 35200 Telde\, Las Palmas
CATEGORIES:Actividades,Eventos gratuitos,Infantil,Taller,Telde
ATTACH;FMTTYPE=image/jpeg:https://calendarioeventos.com/wp-content/uploads/2025/10/652684809_18085380293189989_5856052253073313819_n.jpg
END:VEVENT
END:VCALENDAR