BEGIN:VCALENDAR
VERSION:2.0
PRODID:-//Calendario de Eventos Gran Canaria - ECPv6.15.17.1//NONSGML v1.0//EN
CALSCALE:GREGORIAN
METHOD:PUBLISH
X-WR-CALNAME:Calendario de Eventos Gran Canaria
X-ORIGINAL-URL:https://calendarioeventos.com/en
X-WR-CALDESC:Events for Calendario de Eventos Gran Canaria
REFRESH-INTERVAL;VALUE=DURATION:PT1H
X-Robots-Tag:noindex
X-PUBLISHED-TTL:PT1H
BEGIN:VTIMEZONE
TZID:Europe/London
BEGIN:DAYLIGHT
TZOFFSETFROM:+0000
TZOFFSETTO:+0100
TZNAME:BST
DTSTART:20250330T010000
END:DAYLIGHT
BEGIN:STANDARD
TZOFFSETFROM:+0100
TZOFFSETTO:+0000
TZNAME:GMT
DTSTART:20251026T010000
END:STANDARD
BEGIN:DAYLIGHT
TZOFFSETFROM:+0000
TZOFFSETTO:+0100
TZNAME:BST
DTSTART:20260329T010000
END:DAYLIGHT
BEGIN:STANDARD
TZOFFSETFROM:+0100
TZOFFSETTO:+0000
TZNAME:GMT
DTSTART:20261025T010000
END:STANDARD
BEGIN:DAYLIGHT
TZOFFSETFROM:+0000
TZOFFSETTO:+0100
TZNAME:BST
DTSTART:20270328T010000
END:DAYLIGHT
BEGIN:STANDARD
TZOFFSETFROM:+0100
TZOFFSETTO:+0000
TZNAME:GMT
DTSTART:20271031T010000
END:STANDARD
END:VTIMEZONE
BEGIN:VEVENT
DTSTART;TZID=Europe/London:20260114T150000
DTEND;TZID=Europe/London:20260114T180000
DTSTAMP:20260423T151734
CREATED:20251222T100830Z
LAST-MODIFIED:20251222T133505Z
UID:46249-1768402800-1768413600@calendarioeventos.com
SUMMARY:Taller - Grabación de Audio y Video
DESCRIPTION:Taller – Workshop de Grabación de Audio y Video en La Tomatera Centro Cultural\, Las Palmas de Gran Canaria. \n@Canarian Social Records \nContactar vía Whatsapp 634659886
URL:https://calendarioeventos.com/en/evento/taller-grabacion-de-audio-y-video/
LOCATION:La Tomatera\, C/ Lepanto 64\, Las Palmas de Gran Canaria
CATEGORIES:Actividades,Las Palmas de GC,Música,Proyecciones,Taller
ATTACH;FMTTYPE=image/jpeg:https://calendarioeventos.com/wp-content/uploads/2025/12/Sin-titulo-6.avif
END:VEVENT
END:VCALENDAR