BEGIN:VCALENDAR
VERSION:2.0
PRODID:-//Calendario de Eventos Gran Canaria - ECPv6.15.17.1//NONSGML v1.0//EN
CALSCALE:GREGORIAN
METHOD:PUBLISH
X-WR-CALNAME:Calendario de Eventos Gran Canaria
X-ORIGINAL-URL:https://calendarioeventos.com/en
X-WR-CALDESC:Events for Calendario de Eventos Gran Canaria
REFRESH-INTERVAL;VALUE=DURATION:PT1H
X-Robots-Tag:noindex
X-PUBLISHED-TTL:PT1H
BEGIN:VTIMEZONE
TZID:Europe/London
BEGIN:DAYLIGHT
TZOFFSETFROM:+0000
TZOFFSETTO:+0100
TZNAME:BST
DTSTART:20250330T010000
END:DAYLIGHT
BEGIN:STANDARD
TZOFFSETFROM:+0100
TZOFFSETTO:+0000
TZNAME:GMT
DTSTART:20251026T010000
END:STANDARD
BEGIN:DAYLIGHT
TZOFFSETFROM:+0000
TZOFFSETTO:+0100
TZNAME:BST
DTSTART:20260329T010000
END:DAYLIGHT
BEGIN:STANDARD
TZOFFSETFROM:+0100
TZOFFSETTO:+0000
TZNAME:GMT
DTSTART:20261025T010000
END:STANDARD
BEGIN:DAYLIGHT
TZOFFSETFROM:+0000
TZOFFSETTO:+0100
TZNAME:BST
DTSTART:20270328T010000
END:DAYLIGHT
BEGIN:STANDARD
TZOFFSETFROM:+0100
TZOFFSETTO:+0000
TZNAME:GMT
DTSTART:20271031T010000
END:STANDARD
END:VTIMEZONE
BEGIN:VEVENT
DTSTART;TZID=Europe/London:20260318T180000
DTEND;TZID=Europe/London:20260318T193000
DTSTAMP:20260419T183416
CREATED:20260314T103842Z
LAST-MODIFIED:20260314T103842Z
UID:66217-1773856800-1773862200@calendarioeventos.com
SUMMARY:Taller - Hilando Lecturas
DESCRIPTION:Taller de bordado y lectura para adultos «Hilando Lecturas» en la Biblioteca Municipal de Arucas\, Gran Canaria. \nTe invitamos a participar en una nueva propuesta\, este taller de bordado y lectura es un espacio diseñado para bajar las revoluciones del ritmo frenético de cada día\, y conectar con tus manos y tu imaginación. \nNo es solo bordar\, no es solo leer; además de practicar la costura\, vamos a dejar que las historias se vayan entrelazando con cada puntada. \nNo se busca la perfección\, sino disfrutar del proceso:\n– Con lecturas inspiradoras.\n– Técnicas de bordado desde cero (¡no necesitas experiencia!).\n– Una agradable reunión y un rico café ☕️ para acompañar la charla. \nInscripción en la App “Arucas\, espacio cultural”.
URL:https://calendarioeventos.com/en/evento/taller-hilando-lecturas/
LOCATION:Biblioteca Municipal de Arucas\, C. León y Castillo\, 5\, 35400 Arucas\, Las Palmas
CATEGORIES:Actividades,Arte,Arucas,Eventos gratuitos,Literatura,Solo adultos,Taller
ATTACH;FMTTYPE=image/jpeg:https://calendarioeventos.com/wp-content/uploads/2026/03/649420289_18167925763408595_8493386585812984851_n.jpg
END:VEVENT
END:VCALENDAR