BEGIN:VCALENDAR
VERSION:2.0
PRODID:-//Calendario de Eventos Gran Canaria - ECPv6.15.17.1//NONSGML v1.0//EN
CALSCALE:GREGORIAN
METHOD:PUBLISH
X-WR-CALNAME:Calendario de Eventos Gran Canaria
X-ORIGINAL-URL:https://calendarioeventos.com/en
X-WR-CALDESC:Events for Calendario de Eventos Gran Canaria
REFRESH-INTERVAL;VALUE=DURATION:PT1H
X-Robots-Tag:noindex
X-PUBLISHED-TTL:PT1H
BEGIN:VTIMEZONE
TZID:Europe/London
BEGIN:DAYLIGHT
TZOFFSETFROM:+0000
TZOFFSETTO:+0100
TZNAME:BST
DTSTART:20250330T010000
END:DAYLIGHT
BEGIN:STANDARD
TZOFFSETFROM:+0100
TZOFFSETTO:+0000
TZNAME:GMT
DTSTART:20251026T010000
END:STANDARD
BEGIN:DAYLIGHT
TZOFFSETFROM:+0000
TZOFFSETTO:+0100
TZNAME:BST
DTSTART:20260329T010000
END:DAYLIGHT
BEGIN:STANDARD
TZOFFSETFROM:+0100
TZOFFSETTO:+0000
TZNAME:GMT
DTSTART:20261025T010000
END:STANDARD
BEGIN:DAYLIGHT
TZOFFSETFROM:+0000
TZOFFSETTO:+0100
TZNAME:BST
DTSTART:20270328T010000
END:DAYLIGHT
BEGIN:STANDARD
TZOFFSETFROM:+0100
TZOFFSETTO:+0000
TZNAME:GMT
DTSTART:20271031T010000
END:STANDARD
END:VTIMEZONE
BEGIN:VEVENT
DTSTART;TZID=Europe/London:20260227T170000
DTEND;TZID=Europe/London:20260227T190000
DTSTAMP:20260421T085022
CREATED:20260225T110132Z
LAST-MODIFIED:20260225T110132Z
UID:61946-1772211600-1772218800@calendarioeventos.com
SUMMARY:Taller - ¿Humanos aumentados… o humanos atontados?
DESCRIPTION:Taller – ¿Humanos aumentados… o humanos atontados? en El Soco\, Las Palmas de Gran Canaria. \nPensar juntos/as en la era de la Inteligencia Artificial \nVivimos en la época más informada\, más conectada y más automatizada de la historia. La cuestión ya no es si la IA va a cambiar cómo pensamos —eso ya está pasando—\, sino cómo queremos pensar a partir de ahora. \nCuando la Inteligencia Colectiva se encuentra con la Inteligencia Artificial\, surge una tensión inevitable: \n👉 ¿Nos amplificamos como sociedad?\n👉 ¿O empezamos a delegar nuestro pensamiento en los algoritmos? \nEn esta charla–conversatorio\, Amalio Rey nos invita a explorar el triángulo entre inteligencia colectiva\, inteligencia artificial y pensamiento crítico\, analizando los desafíos y oportunidades de pensar en red en tiempos algorítmicos. \nUna conversación necesaria para quienes creen que la participación también implica pensar mejor juntos/as.
URL:https://calendarioeventos.com/en/evento/taller-humanos-aumentados-o-humanos-atontados/
LOCATION:El Soco Gran Canaria\, C. San Pedro\, 2\, 35002 Las Palmas de Gran Canaria\, Las Palmas
CATEGORIES:Actividades,Eventos gratuitos,Las Palmas de GC,Música,Taller
ATTACH;FMTTYPE=image/png:https://calendarioeventos.com/wp-content/uploads/2026/02/Screenshot-2026-02-25-at-10-58-39-Cuarta-Semana-•-Instagram.avif
END:VEVENT
END:VCALENDAR