BEGIN:VCALENDAR
VERSION:2.0
PRODID:-//Calendario de Eventos Gran Canaria - ECPv6.15.17.1//NONSGML v1.0//EN
CALSCALE:GREGORIAN
METHOD:PUBLISH
X-WR-CALNAME:Calendario de Eventos Gran Canaria
X-ORIGINAL-URL:https://calendarioeventos.com/en
X-WR-CALDESC:Events for Calendario de Eventos Gran Canaria
REFRESH-INTERVAL;VALUE=DURATION:PT1H
X-Robots-Tag:noindex
X-PUBLISHED-TTL:PT1H
BEGIN:VTIMEZONE
TZID:Europe/London
BEGIN:DAYLIGHT
TZOFFSETFROM:+0000
TZOFFSETTO:+0100
TZNAME:BST
DTSTART:20250330T010000
END:DAYLIGHT
BEGIN:STANDARD
TZOFFSETFROM:+0100
TZOFFSETTO:+0000
TZNAME:GMT
DTSTART:20251026T010000
END:STANDARD
BEGIN:DAYLIGHT
TZOFFSETFROM:+0000
TZOFFSETTO:+0100
TZNAME:BST
DTSTART:20260329T010000
END:DAYLIGHT
BEGIN:STANDARD
TZOFFSETFROM:+0100
TZOFFSETTO:+0000
TZNAME:GMT
DTSTART:20261025T010000
END:STANDARD
BEGIN:DAYLIGHT
TZOFFSETFROM:+0000
TZOFFSETTO:+0100
TZNAME:BST
DTSTART:20270328T010000
END:DAYLIGHT
BEGIN:STANDARD
TZOFFSETFROM:+0100
TZOFFSETTO:+0000
TZNAME:GMT
DTSTART:20271031T010000
END:STANDARD
END:VTIMEZONE
BEGIN:VEVENT
DTSTART;TZID=Europe/London:20260313T180000
DTEND;TZID=Europe/London:20260313T193000
DTSTAMP:20260423T115400
CREATED:20260307T175243Z
LAST-MODIFIED:20260307T175251Z
UID:64900-1773424800-1773430200@calendarioeventos.com
SUMMARY:Taller Infantil — «El Cuerpo que dibuja»
DESCRIPTION:Taller Infantil «El Cuerpo que dibuja» en la Fundación de Arte y Pensamiento Martín Chirino\, Las Palmas de Gran Canaria. \nComo novedad en esta edición de La Voz de la Mujer\, se ha diseñado una actividad infantil paralela: el Cuerpo que dibuja\, para niños de 3 a 8 años. \nUn espacio de creación donde los más pequeños podrán explorar a través del arte y el movimiento en el contexto de la jornada de encuentro e inspiración femenina coordinada por Dácil Manrique De Lara.
URL:https://calendarioeventos.com/en/evento/taller-infantil-el-cuerpo-que-dibuja/
LOCATION:Fundación Martín Chirino\, Castillo de La Luz\, C. Juan Rejón\, s/n\, Las Palmas de Gran Canaria\, Las Palmas\, 35008\, España
CATEGORIES:Actividades,Eventos gratuitos,Infantil,Las Palmas de GC,Taller
ATTACH;FMTTYPE=image/jpeg:https://calendarioeventos.com/wp-content/uploads/2026/03/taller-infantil-el-cuerpo-que-dibuja-1772905961050.avif
END:VEVENT
END:VCALENDAR