BEGIN:VCALENDAR
VERSION:2.0
PRODID:-//Calendario de Eventos Gran Canaria - ECPv6.15.17.1//NONSGML v1.0//EN
CALSCALE:GREGORIAN
METHOD:PUBLISH
X-WR-CALNAME:Calendario de Eventos Gran Canaria
X-ORIGINAL-URL:https://calendarioeventos.com/en
X-WR-CALDESC:Events for Calendario de Eventos Gran Canaria
REFRESH-INTERVAL;VALUE=DURATION:PT1H
X-Robots-Tag:noindex
X-PUBLISHED-TTL:PT1H
BEGIN:VTIMEZONE
TZID:Europe/London
BEGIN:DAYLIGHT
TZOFFSETFROM:+0000
TZOFFSETTO:+0100
TZNAME:BST
DTSTART:20250330T010000
END:DAYLIGHT
BEGIN:STANDARD
TZOFFSETFROM:+0100
TZOFFSETTO:+0000
TZNAME:GMT
DTSTART:20251026T010000
END:STANDARD
BEGIN:DAYLIGHT
TZOFFSETFROM:+0000
TZOFFSETTO:+0100
TZNAME:BST
DTSTART:20260329T010000
END:DAYLIGHT
BEGIN:STANDARD
TZOFFSETFROM:+0100
TZOFFSETTO:+0000
TZNAME:GMT
DTSTART:20261025T010000
END:STANDARD
BEGIN:DAYLIGHT
TZOFFSETFROM:+0000
TZOFFSETTO:+0100
TZNAME:BST
DTSTART:20270328T010000
END:DAYLIGHT
BEGIN:STANDARD
TZOFFSETFROM:+0100
TZOFFSETTO:+0000
TZNAME:GMT
DTSTART:20271031T010000
END:STANDARD
END:VTIMEZONE
BEGIN:VEVENT
DTSTART;TZID=Europe/London:20260304T160000
DTEND;TZID=Europe/London:20260304T190000
DTSTAMP:20260423T203549
CREATED:20260223T180354Z
LAST-MODIFIED:20260223T180355Z
UID:61314-1772640000-1772650800@calendarioeventos.com
SUMMARY:Taller - «Iniciación a Audacity»
DESCRIPTION:Taller de Iniciación a Audacity en el CEP Las Palmas de Gran Canaria\, Las Palmas de Gran Canaria. \nEl próximo 4 de marzo\, en horario de 16:00 a 19:00\, se impartirá la formación Iniciación a Audacity en el CEP Las Palmas de Gran Canaria. Esta sesión formativa\, a cargo del ponente Manuel Suárez\, se centra en los aspectos esenciales de Audacity como herramienta de edición de audio orientada al uso educativo. \n Los asistentes aprenderán procesos de grabación\, edición sencilla y exportación de archivos para su aplicación práctica inmediata en el aula. Se trata de una oportunidad para que el profesorado se inicie en el trabajo con audio y amplíe sus recursos didácticos de manera efectiva.  \nEl taller busca dotar a los participantes de habilidades técnicas para mejorar la producción de contenidos sonoros y dinamizar la enseñanza en el entorno escolar.
URL:https://calendarioeventos.com/en/evento/taller-iniciacion-a-audacity/
LOCATION:CEP Las Palmas de Gran Canaria\, C. Padre Pedro Sanz Sainz\, 60\, 35014 Las Palmas de Gran Canaria\, Las Palmas
CATEGORIES:Actividades,Las Palmas de GC,Taller
ATTACH;FMTTYPE=image/jpeg:https://calendarioeventos.com/wp-content/uploads/2026/02/610652904_18100455088883682_7548312736892253820_n-a5cAZA.avif
END:VEVENT
END:VCALENDAR