BEGIN:VCALENDAR
VERSION:2.0
PRODID:-//Calendario de Eventos Gran Canaria - ECPv6.15.17.1//NONSGML v1.0//EN
CALSCALE:GREGORIAN
METHOD:PUBLISH
X-WR-CALNAME:Calendario de Eventos Gran Canaria
X-ORIGINAL-URL:https://calendarioeventos.com/en
X-WR-CALDESC:Events for Calendario de Eventos Gran Canaria
REFRESH-INTERVAL;VALUE=DURATION:PT1H
X-Robots-Tag:noindex
X-PUBLISHED-TTL:PT1H
BEGIN:VTIMEZONE
TZID:Europe/London
BEGIN:DAYLIGHT
TZOFFSETFROM:+0000
TZOFFSETTO:+0100
TZNAME:BST
DTSTART:20250330T010000
END:DAYLIGHT
BEGIN:STANDARD
TZOFFSETFROM:+0100
TZOFFSETTO:+0000
TZNAME:GMT
DTSTART:20251026T010000
END:STANDARD
BEGIN:DAYLIGHT
TZOFFSETFROM:+0000
TZOFFSETTO:+0100
TZNAME:BST
DTSTART:20260329T010000
END:DAYLIGHT
BEGIN:STANDARD
TZOFFSETFROM:+0100
TZOFFSETTO:+0000
TZNAME:GMT
DTSTART:20261025T010000
END:STANDARD
BEGIN:DAYLIGHT
TZOFFSETFROM:+0000
TZOFFSETTO:+0100
TZNAME:BST
DTSTART:20270328T010000
END:DAYLIGHT
BEGIN:STANDARD
TZOFFSETFROM:+0100
TZOFFSETTO:+0000
TZNAME:GMT
DTSTART:20271031T010000
END:STANDARD
END:VTIMEZONE
BEGIN:VEVENT
DTSTART;TZID=Europe/London:20260312T180000
DTEND;TZID=Europe/London:20260312T200000
DTSTAMP:20260423T111804
CREATED:20260308T142352Z
LAST-MODIFIED:20260308T142354Z
UID:64995-1773338400-1773345600@calendarioeventos.com
SUMMARY:Taller — «Inteligencia emocional»
DESCRIPTION:Taller — Inteligencia emocional en la Biblioteca Josefina de la Torre\, Las Palmas de Gran Canaria. \nEl taller busca fomentar el autoconocimiento\, la gestión emocional y la mejora de las relaciones. Las personas participantes aprenderán a manejar el estrés\, comunicarse eficazmente y tomar decisiones equilibradas mediante herramientas prácticas aplicables a la vida diaria. La astrología se utilizará como herramienta simbólica de autoconocimiento\, ayudando a comprender patrones emocionales a través de la interpretación de la carta natal desde un enfoque astro-psicológico. A cargo de: Gema Juan Bernabeu y Antonia Sempere García. Inscripción en este enlace llamando al 928 276 371.
URL:https://calendarioeventos.com/en/evento/taller-inteligencia-emocional-2/
LOCATION:Biblioteca Josefina de La Torre\, Paseo de las Canteras\, s/n\, Plaza Agatha Christie\, Las Palmas de Gran Canaria
CATEGORIES:Actividades,Eventos gratuitos,Las Palmas de GC,Solo adultos,Taller
ATTACH;FMTTYPE=image/webp:https://calendarioeventos.com/wp-content/uploads/2026/03/jdlt_120326_03_03_2026-P8oDiU.avif
END:VEVENT
END:VCALENDAR