BEGIN:VCALENDAR
VERSION:2.0
PRODID:-//Calendario de Eventos Gran Canaria - ECPv6.15.17.1//NONSGML v1.0//EN
CALSCALE:GREGORIAN
METHOD:PUBLISH
X-WR-CALNAME:Calendario de Eventos Gran Canaria
X-ORIGINAL-URL:https://calendarioeventos.com/en
X-WR-CALDESC:Events for Calendario de Eventos Gran Canaria
REFRESH-INTERVAL;VALUE=DURATION:PT1H
X-Robots-Tag:noindex
X-PUBLISHED-TTL:PT1H
BEGIN:VTIMEZONE
TZID:Europe/London
BEGIN:DAYLIGHT
TZOFFSETFROM:+0000
TZOFFSETTO:+0100
TZNAME:BST
DTSTART:20250330T010000
END:DAYLIGHT
BEGIN:STANDARD
TZOFFSETFROM:+0100
TZOFFSETTO:+0000
TZNAME:GMT
DTSTART:20251026T010000
END:STANDARD
BEGIN:DAYLIGHT
TZOFFSETFROM:+0000
TZOFFSETTO:+0100
TZNAME:BST
DTSTART:20260329T010000
END:DAYLIGHT
BEGIN:STANDARD
TZOFFSETFROM:+0100
TZOFFSETTO:+0000
TZNAME:GMT
DTSTART:20261025T010000
END:STANDARD
BEGIN:DAYLIGHT
TZOFFSETFROM:+0000
TZOFFSETTO:+0100
TZNAME:BST
DTSTART:20270328T010000
END:DAYLIGHT
BEGIN:STANDARD
TZOFFSETFROM:+0100
TZOFFSETTO:+0000
TZNAME:GMT
DTSTART:20271031T010000
END:STANDARD
END:VTIMEZONE
BEGIN:VEVENT
DTSTART;TZID=Europe/London:20260327T170000
DTEND;TZID=Europe/London:20260327T200000
DTSTAMP:20260425T050124
CREATED:20260316T102816Z
LAST-MODIFIED:20260316T102817Z
UID:66383-1774630800-1774641600@calendarioeventos.com
SUMMARY:Taller - «Kpop con Rumi\, Mira y Zoey»
DESCRIPTION:Taller infantil de Kpop con Rumi\, Mira y Zoey en Las Aventuras de Lukas\, Telde\, Gran Canaria. \nDisfruta de un espectacular Taller Kpop con la visita especial de Rumi\, Mira y Zoey.  \nUna oportunidad única para bailar y divertirse en un ambiente pensado para los más pequeños.  \nEl taller se realizará el 27 de marzo en horario de 17:00 a 20:00.  \nLa inscripción tiene un precio de 22\,50 euros y la merienda está incluida en el precio.  \nActividad dirigida a niños y niñas a partir de 3 años de edad.
URL:https://calendarioeventos.com/en/evento/taller-kpop-con-rumi-mira-y-zoey/
LOCATION:Las Aventuras De Lukas\, C. José Vélez\, 50\, 35200 Telde\, Las Palmas
CATEGORIES:Actividades,Danza,Infantil,Música,Taller,Telde
ATTACH;FMTTYPE=image/jpeg:https://calendarioeventos.com/wp-content/uploads/2026/03/taller-kpop-con-rumi-mira-y-zoey-1773656894542.jpeg
END:VEVENT
END:VCALENDAR