BEGIN:VCALENDAR
VERSION:2.0
PRODID:-//Calendario de Eventos Gran Canaria - ECPv6.15.17.1//NONSGML v1.0//EN
CALSCALE:GREGORIAN
METHOD:PUBLISH
X-WR-CALNAME:Calendario de Eventos Gran Canaria
X-ORIGINAL-URL:https://calendarioeventos.com/en
X-WR-CALDESC:Events for Calendario de Eventos Gran Canaria
REFRESH-INTERVAL;VALUE=DURATION:PT1H
X-Robots-Tag:noindex
X-PUBLISHED-TTL:PT1H
BEGIN:VTIMEZONE
TZID:Europe/London
BEGIN:DAYLIGHT
TZOFFSETFROM:+0000
TZOFFSETTO:+0100
TZNAME:BST
DTSTART:20250330T010000
END:DAYLIGHT
BEGIN:STANDARD
TZOFFSETFROM:+0100
TZOFFSETTO:+0000
TZNAME:GMT
DTSTART:20251026T010000
END:STANDARD
BEGIN:DAYLIGHT
TZOFFSETFROM:+0000
TZOFFSETTO:+0100
TZNAME:BST
DTSTART:20260329T010000
END:DAYLIGHT
BEGIN:STANDARD
TZOFFSETFROM:+0100
TZOFFSETTO:+0000
TZNAME:GMT
DTSTART:20261025T010000
END:STANDARD
BEGIN:DAYLIGHT
TZOFFSETFROM:+0000
TZOFFSETTO:+0100
TZNAME:BST
DTSTART:20270328T010000
END:DAYLIGHT
BEGIN:STANDARD
TZOFFSETFROM:+0100
TZOFFSETTO:+0000
TZNAME:GMT
DTSTART:20271031T010000
END:STANDARD
END:VTIMEZONE
BEGIN:VEVENT
DTSTART;TZID=Europe/London:20260225T170000
DTEND;TZID=Europe/London:20260225T183000
DTSTAMP:20260423T103502
CREATED:20260210T183741Z
LAST-MODIFIED:20260223T222245Z
UID:58394-1772038800-1772044200@calendarioeventos.com
SUMMARY:Taller - Laboratorio de movimiento II
DESCRIPTION:Taller – «Laboratorio de movimiento II» en Café d’Espacio\, Las Palmas de Gran Canaria. \nA veces\, un impulso se queda atascado entre paredes.\nOtras\, necesita encontrar hueco para salir.\nAl abrir la puerta\, choca con otros impulsos con su mismo dilema: ¿entrar o salir?\n¿Quedarse\, retumbando dentro? ¿O permitirse ser rayo y quemar a su alrededor? \nQué bueno sería poder ser\, además\, agua\, o viento\, para no aferrarnos a una única opción\ny utilizar lo que más nos permita integrarnos con lo que nos rodea. \n*miércoles 25/2 17hs – taquilla inversa* \nContactos:\n642 33 12 02 (lu)\n642 74 50 74 (sofi)
URL:https://calendarioeventos.com/en/evento/taller-laboratorio-de-movimiento/
LOCATION:Café d’Espacio\, Calle Cebrián\, 54\, 35003 Las Palmas de Gran Canaria\, Las Palmas
CATEGORIES:Actividades,Las Palmas de GC,Taller
ATTACH;FMTTYPE=image/png:https://calendarioeventos.com/wp-content/uploads/2026/02/Screenshot-2026-02-10-at-18-35-57-Segunda-Semana-•-Instagram.avif
END:VEVENT
END:VCALENDAR