BEGIN:VCALENDAR
VERSION:2.0
PRODID:-//Calendario de Eventos Gran Canaria - ECPv6.15.17.1//NONSGML v1.0//EN
CALSCALE:GREGORIAN
METHOD:PUBLISH
X-WR-CALNAME:Calendario de Eventos Gran Canaria
X-ORIGINAL-URL:https://calendarioeventos.com/en
X-WR-CALDESC:Events for Calendario de Eventos Gran Canaria
REFRESH-INTERVAL;VALUE=DURATION:PT1H
X-Robots-Tag:noindex
X-PUBLISHED-TTL:PT1H
BEGIN:VTIMEZONE
TZID:Europe/London
BEGIN:DAYLIGHT
TZOFFSETFROM:+0000
TZOFFSETTO:+0100
TZNAME:BST
DTSTART:20250330T010000
END:DAYLIGHT
BEGIN:STANDARD
TZOFFSETFROM:+0100
TZOFFSETTO:+0000
TZNAME:GMT
DTSTART:20251026T010000
END:STANDARD
BEGIN:DAYLIGHT
TZOFFSETFROM:+0000
TZOFFSETTO:+0100
TZNAME:BST
DTSTART:20260329T010000
END:DAYLIGHT
BEGIN:STANDARD
TZOFFSETFROM:+0100
TZOFFSETTO:+0000
TZNAME:GMT
DTSTART:20261025T010000
END:STANDARD
BEGIN:DAYLIGHT
TZOFFSETFROM:+0000
TZOFFSETTO:+0100
TZNAME:BST
DTSTART:20270328T010000
END:DAYLIGHT
BEGIN:STANDARD
TZOFFSETFROM:+0100
TZOFFSETTO:+0000
TZNAME:GMT
DTSTART:20271031T010000
END:STANDARD
END:VTIMEZONE
BEGIN:VEVENT
DTSTART;TZID=Europe/London:20260306T173000
DTEND;TZID=Europe/London:20260306T193000
DTSTAMP:20260423T174853
CREATED:20260224T113506Z
LAST-MODIFIED:20260224T113506Z
UID:61589-1772818200-1772825400@calendarioeventos.com
SUMMARY:Taller - Lettering\, el arte de dibujar con letras
DESCRIPTION:Taller de Lettering\, el arte de dibujar con letras\, en Barbecho Laboratorio Creativo\, Las Palmas de Gran Canaria. \nTe invitamos a sumergirte en el maravilloso mundo del lettering de la mano de @amasoniatropical \nUn espacio creativo pensado para mayores de 7 años\, donde no necesitas conocimientos previos. Solo hacen falta ganas de disfrutar\, experimentar y dejar volar la imaginación. \nAprenderemos las bases del lettering y descubriremos cómo transformar palabras en pequeñas obras de arte\, jugando con formas\, trazos y estilos. \nVen a crear\, a relajarte y a descubrir el arte de dibujar con letras. \nReservas en este enlace. \n¡Te esperamos!
URL:https://calendarioeventos.com/en/evento/taller-lettering-el-arte-de-dibujar-con-letras/
LOCATION:Barbecho Laboratorio Creativo\, C. Fernando Guanarteme\, 134\, 35010 Las Palmas de Gran Canaria\, Las Palmas
CATEGORIES:Actividades,Arte,Las Palmas de GC,Taller
END:VEVENT
END:VCALENDAR