BEGIN:VCALENDAR
VERSION:2.0
PRODID:-//Calendario de Eventos Gran Canaria - ECPv6.15.17.1//NONSGML v1.0//EN
CALSCALE:GREGORIAN
METHOD:PUBLISH
X-WR-CALNAME:Calendario de Eventos Gran Canaria
X-ORIGINAL-URL:https://calendarioeventos.com/en
X-WR-CALDESC:Events for Calendario de Eventos Gran Canaria
REFRESH-INTERVAL;VALUE=DURATION:PT1H
X-Robots-Tag:noindex
X-PUBLISHED-TTL:PT1H
BEGIN:VTIMEZONE
TZID:Europe/London
BEGIN:DAYLIGHT
TZOFFSETFROM:+0000
TZOFFSETTO:+0100
TZNAME:BST
DTSTART:20240331T010000
END:DAYLIGHT
BEGIN:STANDARD
TZOFFSETFROM:+0100
TZOFFSETTO:+0000
TZNAME:GMT
DTSTART:20241027T010000
END:STANDARD
BEGIN:DAYLIGHT
TZOFFSETFROM:+0000
TZOFFSETTO:+0100
TZNAME:BST
DTSTART:20250330T010000
END:DAYLIGHT
BEGIN:STANDARD
TZOFFSETFROM:+0100
TZOFFSETTO:+0000
TZNAME:GMT
DTSTART:20251026T010000
END:STANDARD
BEGIN:DAYLIGHT
TZOFFSETFROM:+0000
TZOFFSETTO:+0100
TZNAME:BST
DTSTART:20260329T010000
END:DAYLIGHT
BEGIN:STANDARD
TZOFFSETFROM:+0100
TZOFFSETTO:+0000
TZNAME:GMT
DTSTART:20261025T010000
END:STANDARD
END:VTIMEZONE
BEGIN:VEVENT
DTSTART;TZID=Europe/London:20251217T170000
DTEND;TZID=Europe/London:20251217T190000
DTSTAMP:20260425T213200
CREATED:20251211T163046Z
LAST-MODIFIED:20251211T163046Z
UID:10011499-1765990800-1765998000@calendarioeventos.com
SUMMARY:Taller Mayores - Velas de Miel
DESCRIPTION:Taller de Velas de Miel en los Clubes de Mayores en la Plaza de Santiago de Gáldar\, Gran Canaria. \nDos talleres navideños especiales y 100 % artesanales para mayores de 60 años \n📍 Sardina: lunes 15 de diciembre\, 17:00 h\nClub de Mayores (c/ Severo Ochoa\, 90)\n📍 Gáldar: miércoles 17 de diciembre\, 17:00 h\nClub de Mayores (c/ Harimaguadas\, 7) \n✨ Aprenderán a moldear\, cortar y decorar sus propias velas con motivos navideños…\n✨ Trabajarán con aromas naturales\, texturas suaves y mucha buena energía.
URL:https://calendarioeventos.com/en/evento/taller-mayores-velas-de-miel/2025-12-17/
LOCATION:Club del Mayor Estrella del Norte Sardina\, C. Severo Ochoa\, 90\, 35469 Puerto de Sardina\, Las Palmas
CATEGORIES:Actividades,Danza,Eventos gratuitos,Feria,Gáldar,Música,Mayores,Taller
ATTACH;FMTTYPE=image/png:https://calendarioeventos.com/wp-content/uploads/2025/12/Screenshot-2025-12-11-at-16-28-15-Instagram.avif
END:VEVENT
END:VCALENDAR