BEGIN:VCALENDAR
VERSION:2.0
PRODID:-//Calendario de Eventos Gran Canaria - ECPv6.15.17.1//NONSGML v1.0//EN
CALSCALE:GREGORIAN
METHOD:PUBLISH
X-WR-CALNAME:Calendario de Eventos Gran Canaria
X-ORIGINAL-URL:https://calendarioeventos.com/en
X-WR-CALDESC:Events for Calendario de Eventos Gran Canaria
REFRESH-INTERVAL;VALUE=DURATION:PT1H
X-Robots-Tag:noindex
X-PUBLISHED-TTL:PT1H
BEGIN:VTIMEZONE
TZID:Europe/London
BEGIN:DAYLIGHT
TZOFFSETFROM:+0000
TZOFFSETTO:+0100
TZNAME:BST
DTSTART:20250330T010000
END:DAYLIGHT
BEGIN:STANDARD
TZOFFSETFROM:+0100
TZOFFSETTO:+0000
TZNAME:GMT
DTSTART:20251026T010000
END:STANDARD
BEGIN:DAYLIGHT
TZOFFSETFROM:+0000
TZOFFSETTO:+0100
TZNAME:BST
DTSTART:20260329T010000
END:DAYLIGHT
BEGIN:STANDARD
TZOFFSETFROM:+0100
TZOFFSETTO:+0000
TZNAME:GMT
DTSTART:20261025T010000
END:STANDARD
BEGIN:DAYLIGHT
TZOFFSETFROM:+0000
TZOFFSETTO:+0100
TZNAME:BST
DTSTART:20270328T010000
END:DAYLIGHT
BEGIN:STANDARD
TZOFFSETFROM:+0100
TZOFFSETTO:+0000
TZNAME:GMT
DTSTART:20271031T010000
END:STANDARD
END:VTIMEZONE
BEGIN:VEVENT
DTSTART;TZID=Europe/London:20260314T113000
DTEND;TZID=Europe/London:20260314T133000
DTSTAMP:20260420T050040
CREATED:20260304T181934Z
LAST-MODIFIED:20260304T182005Z
UID:64384-1773487800-1773495000@calendarioeventos.com
SUMMARY:Taller - «Pino Ojeda: abstracción y círculos mágicos»
DESCRIPTION:Taller Plástico «Pino Ojeda: abstracción y círculos mágicos» en el Museo Castillo de Mata\, Las Palmas de Gran Canaria. \nAbiertas las inscripciones para el taller Pino Ojeda: abstracción y círculos mágicos.  \nEl taller comenzará con una breve visita a la exposición\, seguido del visionado de partes del documental La habitación del fondo\, para terminar trabajando directamente las diferentes técnicas artísticas usadas por Pino Ojeda\, intentando recrear alguna de sus obras más representativas.  \nDuración aproximada de dos horas. Actividad gratuita. Edad mínima recomendada\, 10 años. I \nnscripción obligatoria en info@castillodemata.es (aportando nombre\, apellidos y DNI). Hasta completar aforo.
URL:https://calendarioeventos.com/en/evento/taller-pino-ojeda-abstraccion-y-circulos-magicos/
LOCATION:Museo Castillo de Mata\, C. Domingo Guerra del Río\, 147\, 35002 Las Palmas de Gran Canaria\, Las Palmas
CATEGORIES:Actividades,Arte,Eventos gratuitos,Las Palmas de GC,Taller,Visita Guiada
ATTACH;FMTTYPE=image/webp:https://calendarioeventos.com/wp-content/uploads/2026/03/taller-pino-ojeda-abstracci-n-y-c-rculos-m-gic-1772648346578.avif
END:VEVENT
END:VCALENDAR