BEGIN:VCALENDAR
VERSION:2.0
PRODID:-//Calendario de Eventos Gran Canaria - ECPv6.15.17.1//NONSGML v1.0//EN
CALSCALE:GREGORIAN
METHOD:PUBLISH
X-WR-CALNAME:Calendario de Eventos Gran Canaria
X-ORIGINAL-URL:https://calendarioeventos.com/en
X-WR-CALDESC:Events for Calendario de Eventos Gran Canaria
REFRESH-INTERVAL;VALUE=DURATION:PT1H
X-Robots-Tag:noindex
X-PUBLISHED-TTL:PT1H
BEGIN:VTIMEZONE
TZID:Europe/London
BEGIN:DAYLIGHT
TZOFFSETFROM:+0000
TZOFFSETTO:+0100
TZNAME:BST
DTSTART:20250330T010000
END:DAYLIGHT
BEGIN:STANDARD
TZOFFSETFROM:+0100
TZOFFSETTO:+0000
TZNAME:GMT
DTSTART:20251026T010000
END:STANDARD
BEGIN:DAYLIGHT
TZOFFSETFROM:+0000
TZOFFSETTO:+0100
TZNAME:BST
DTSTART:20260329T010000
END:DAYLIGHT
BEGIN:STANDARD
TZOFFSETFROM:+0100
TZOFFSETTO:+0000
TZNAME:GMT
DTSTART:20261025T010000
END:STANDARD
BEGIN:DAYLIGHT
TZOFFSETFROM:+0000
TZOFFSETTO:+0100
TZNAME:BST
DTSTART:20270328T010000
END:DAYLIGHT
BEGIN:STANDARD
TZOFFSETFROM:+0100
TZOFFSETTO:+0000
TZNAME:GMT
DTSTART:20271031T010000
END:STANDARD
END:VTIMEZONE
BEGIN:VEVENT
DTSTART;TZID=Europe/London:20260302T163000
DTEND;TZID=Europe/London:20260302T203000
DTSTAMP:20260423T224555
CREATED:20260223T213431Z
LAST-MODIFIED:20260223T213526Z
UID:10014260-1772469000-1772483400@calendarioeventos.com
SUMMARY:Taller — «Planificación de Alimentación Saludable»
DESCRIPTION:Taller — «Curso de Planificación de Alimentación Saludable» en el Punto J\, Santa Lucía de Tirajana. \nUn nuevo curso diseñado para que aprendas a planificar tu alimentación\, adaptándola a tus necesidades personales\, estilo de vida y objetivos de salud. El programa incluye fundamentos de nutrición\, elección de alimentos\, nutrición inteligente y hábitos saludables. Dirigido a jóvenes de 14 a 30 años. \n👩‍🔬MÓDULO 1. Fundamentos de la nutrición\n🍳MÓDULO 2. Aprende a elegir mejor los alimentos\n🧠MÓDULO 3. Nutrición inteligente en la vida diaria\n😎MÓDULO 4. Alimentación consciente y hábitos saludables \n👥 Para jóvenes de 14 a 30 años\n💰 Precio: 3 € 🎟️ Con Carné Joven: 1\,5 €
URL:https://calendarioeventos.com/en/evento/taller-planificacion-de-alimentacion-saludable/2026-03-02/
LOCATION:Punto J\, Casa de la Juventud de Santa Lucía\, C. Poema la Maleta\, 16\, 35110 Vecindario\, Las Palmas
CATEGORIES:Actividades,Gastronomía,Jóvenes,Santa Lucía de Tirajana,Taller
ATTACH;FMTTYPE=image/jpeg:https://calendarioeventos.com/wp-content/uploads/2026/02/taller-planificaci-n-de-alimentaci-n-saludable-1771882469206.avif
END:VEVENT
END:VCALENDAR