BEGIN:VCALENDAR
VERSION:2.0
PRODID:-//Calendario de Eventos Gran Canaria - ECPv6.15.17.1//NONSGML v1.0//EN
CALSCALE:GREGORIAN
METHOD:PUBLISH
X-WR-CALNAME:Calendario de Eventos Gran Canaria
X-ORIGINAL-URL:https://calendarioeventos.com/en
X-WR-CALDESC:Events for Calendario de Eventos Gran Canaria
REFRESH-INTERVAL;VALUE=DURATION:PT1H
X-Robots-Tag:noindex
X-PUBLISHED-TTL:PT1H
BEGIN:VTIMEZONE
TZID:Europe/London
BEGIN:DAYLIGHT
TZOFFSETFROM:+0000
TZOFFSETTO:+0100
TZNAME:BST
DTSTART:20250330T010000
END:DAYLIGHT
BEGIN:STANDARD
TZOFFSETFROM:+0100
TZOFFSETTO:+0000
TZNAME:GMT
DTSTART:20251026T010000
END:STANDARD
BEGIN:DAYLIGHT
TZOFFSETFROM:+0000
TZOFFSETTO:+0100
TZNAME:BST
DTSTART:20260329T010000
END:DAYLIGHT
BEGIN:STANDARD
TZOFFSETFROM:+0100
TZOFFSETTO:+0000
TZNAME:GMT
DTSTART:20261025T010000
END:STANDARD
BEGIN:DAYLIGHT
TZOFFSETFROM:+0000
TZOFFSETTO:+0100
TZNAME:BST
DTSTART:20270328T010000
END:DAYLIGHT
BEGIN:STANDARD
TZOFFSETFROM:+0100
TZOFFSETTO:+0000
TZNAME:GMT
DTSTART:20271031T010000
END:STANDARD
END:VTIMEZONE
BEGIN:VEVENT
DTSTART;TZID=Europe/London:20260312T170000
DTEND;TZID=Europe/London:20260312T183000
DTSTAMP:20260420T213041
CREATED:20260226T170346Z
LAST-MODIFIED:20260226T170347Z
UID:62521-1773334800-1773340200@calendarioeventos.com
SUMMARY:Taller - Plasticoflexia: Elaboración de peces con plástico
DESCRIPTION:Taller de Plasticoflexia: Elaboración de peces con botellas y garrafas de plástico\, en la Sala de Exposiciones Lola Massieu\, Santa Brígida\, Gran Canaria.  \nTaller vinculado a la exposición ‘The North Atlantic Garbage Patch’\, de Oliver Behrmann.  \nCreación de peces y medusas fluorescentes.  \nPara todas las edades.  \nPlazas limitadas (máximo 20 personas). Actividad gratuita. \n+Información e inscripción: en el correo cultura@santabrigida.es\, en el teléfono 928 648 181 ext: 0311\, o presencialmente en la Sala de Exposiciones Lola Massieu
URL:https://calendarioeventos.com/en/evento/taller-plasticoflexia-elaboracion-de-peces-con-plastico/
LOCATION:Sala de Exposiciones Lola Massieu\, C. Nueva\, s n\, 35300 Sta Brígida\, Las Palmas
CATEGORIES:Actividades,Arte,Eventos gratuitos,Infantil,Santa Brígida,Taller
ATTACH;FMTTYPE=image/png:https://calendarioeventos.com/wp-content/uploads/2026/02/taller-plasticoflexia-elaboraci-n-de-peces-con-1772125423742.avif
END:VEVENT
END:VCALENDAR