BEGIN:VCALENDAR
VERSION:2.0
PRODID:-//Calendario de Eventos Gran Canaria - ECPv6.15.17.1//NONSGML v1.0//EN
CALSCALE:GREGORIAN
METHOD:PUBLISH
X-WR-CALNAME:Calendario de Eventos Gran Canaria
X-ORIGINAL-URL:https://calendarioeventos.com/en
X-WR-CALDESC:Events for Calendario de Eventos Gran Canaria
REFRESH-INTERVAL;VALUE=DURATION:PT1H
X-Robots-Tag:noindex
X-PUBLISHED-TTL:PT1H
BEGIN:VTIMEZONE
TZID:Europe/London
BEGIN:DAYLIGHT
TZOFFSETFROM:+0000
TZOFFSETTO:+0100
TZNAME:BST
DTSTART:20250330T010000
END:DAYLIGHT
BEGIN:STANDARD
TZOFFSETFROM:+0100
TZOFFSETTO:+0000
TZNAME:GMT
DTSTART:20251026T010000
END:STANDARD
BEGIN:DAYLIGHT
TZOFFSETFROM:+0000
TZOFFSETTO:+0100
TZNAME:BST
DTSTART:20260329T010000
END:DAYLIGHT
BEGIN:STANDARD
TZOFFSETFROM:+0100
TZOFFSETTO:+0000
TZNAME:GMT
DTSTART:20261025T010000
END:STANDARD
BEGIN:DAYLIGHT
TZOFFSETFROM:+0000
TZOFFSETTO:+0100
TZNAME:BST
DTSTART:20270328T010000
END:DAYLIGHT
BEGIN:STANDARD
TZOFFSETFROM:+0100
TZOFFSETTO:+0000
TZNAME:GMT
DTSTART:20271031T010000
END:STANDARD
END:VTIMEZONE
BEGIN:VEVENT
DTSTART;TZID=Europe/London:20260311T170000
DTEND;TZID=Europe/London:20260311T190000
DTSTAMP:20260421T023258
CREATED:20260304T185416Z
LAST-MODIFIED:20260304T185445Z
UID:64406-1773248400-1773255600@calendarioeventos.com
SUMMARY:Taller - «Privacidad y Seguridad en Redes»
DESCRIPTION:Taller — «Privacidad y Seguridad en Redes Sociales: Facebook\, Instagram y X sin riesgos» en el Centro Universidad Popular de La Paterna\, Las Palmas de Gran Canaria. \nLa Escuela de Ciudadanía de Gran Canaria\, impulsada por la @up_canarias (ACUP) y la Dirección Insular de @participagrancanaria del @cabilodegrancanaria en colaboración con el @aytolpgc\, te invita a participar en el taller: Privacidad y Seguridad en Redes Sociales: Facebook\, Instagram y X sin riesgos. \nObjetivo: Aprender a proteger tu información personal en redes sociales\, configurar correctamente la privacidad de tus perfiles y prevenir fraudes\, suplantaciones de identidad y riesgos digitales. \nDetalles del taller:Fecha: Miércoles\, 11 de marzo de 2026.Hora: De 17:00 a 19:00 horas.Lugar: Centro Universidad Popular de La Paterna.Duración: 2 horas.Formación gratuita\, plazas limitadas. Aprende a configurar tus redes sociales de forma segura y protege tu identidad digital. Da el paso hacia un uso más consciente y seguro de la tecnología.  \nInscripción en este enlace
URL:https://calendarioeventos.com/en/evento/taller-privacidad-y-seguridad-en-redes/
LOCATION:Centro UP La Paterna\, entre 70\, C. Manuel de Falla\, 72\, y 72\, 35013 Las Palmas de Gran Canaria\, Las Palmas
CATEGORIES:Actividades,Eventos gratuitos,Las Palmas de GC,Taller
ATTACH;FMTTYPE=image/jpeg:https://calendarioeventos.com/wp-content/uploads/2026/03/taller-privacidad-y-seguridad-en-redes-1772650427400.avif
END:VEVENT
END:VCALENDAR