BEGIN:VCALENDAR
VERSION:2.0
PRODID:-//Calendario de Eventos Gran Canaria - ECPv6.15.17.1//NONSGML v1.0//EN
CALSCALE:GREGORIAN
METHOD:PUBLISH
X-WR-CALNAME:Calendario de Eventos Gran Canaria
X-ORIGINAL-URL:https://calendarioeventos.com/en
X-WR-CALDESC:Events for Calendario de Eventos Gran Canaria
REFRESH-INTERVAL;VALUE=DURATION:PT1H
X-Robots-Tag:noindex
X-PUBLISHED-TTL:PT1H
BEGIN:VTIMEZONE
TZID:Europe/London
BEGIN:DAYLIGHT
TZOFFSETFROM:+0000
TZOFFSETTO:+0100
TZNAME:BST
DTSTART:20250330T010000
END:DAYLIGHT
BEGIN:STANDARD
TZOFFSETFROM:+0100
TZOFFSETTO:+0000
TZNAME:GMT
DTSTART:20251026T010000
END:STANDARD
BEGIN:DAYLIGHT
TZOFFSETFROM:+0000
TZOFFSETTO:+0100
TZNAME:BST
DTSTART:20260329T010000
END:DAYLIGHT
BEGIN:STANDARD
TZOFFSETFROM:+0100
TZOFFSETTO:+0000
TZNAME:GMT
DTSTART:20261025T010000
END:STANDARD
BEGIN:DAYLIGHT
TZOFFSETFROM:+0000
TZOFFSETTO:+0100
TZNAME:BST
DTSTART:20270328T010000
END:DAYLIGHT
BEGIN:STANDARD
TZOFFSETFROM:+0100
TZOFFSETTO:+0000
TZNAME:GMT
DTSTART:20271031T010000
END:STANDARD
END:VTIMEZONE
BEGIN:VEVENT
DTSTART;TZID=Europe/London:20260318T163000
DTEND;TZID=Europe/London:20260318T190000
DTSTAMP:20260419T183734
CREATED:20260225T230704Z
LAST-MODIFIED:20260225T230705Z
UID:62084-1773851400-1773860400@calendarioeventos.com
SUMMARY:Taller - «Recoger para contar»
DESCRIPTION:Taller — «Recoger para contar» en el CEP Las Palmas\, Las Palmas de Gran Canaria. \nEl Centro del Profesorado de Las Palmas de Gran Canaria (CEP) presenta a toda su comunidad la charla y taller sobre narrativa y tradición oral “Recoger para contar\, la tradición oral y la memoria personal como generadoras de contenidos culturales”. \nImparte el narrador oral José Luis Gutiérrez García\, Guti. \nEl encuentro está orientado principalmente a los medios docentes y de formación\, aportando de forma teórica conocimientos\, herramientas bases y técnicas eficaces para generar futuros contenidos apoyados en la sólida narrativa popular y su conservación oral en canarias. \nInscripción en Formación del Profesorado (en línea) y Blog del CEP Las Palmas
URL:https://calendarioeventos.com/en/evento/taller-recoger-para-contar/
LOCATION:CEP Las Palmas de Gran Canaria\, C. Padre Pedro Sanz Sainz\, 60\, 35014 Las Palmas de Gran Canaria\, Las Palmas
CATEGORIES:Actividades,Charla,Las Palmas de GC,Taller
ATTACH;FMTTYPE=image/webp:https://calendarioeventos.com/wp-content/uploads/2026/02/taller-recoger-para-contar-1772060822843.avif
END:VEVENT
END:VCALENDAR