BEGIN:VCALENDAR
VERSION:2.0
PRODID:-//Calendario de Eventos Gran Canaria - ECPv6.15.17.1//NONSGML v1.0//EN
CALSCALE:GREGORIAN
METHOD:PUBLISH
X-WR-CALNAME:Calendario de Eventos Gran Canaria
X-ORIGINAL-URL:https://calendarioeventos.com/en
X-WR-CALDESC:Events for Calendario de Eventos Gran Canaria
REFRESH-INTERVAL;VALUE=DURATION:PT1H
X-Robots-Tag:noindex
X-PUBLISHED-TTL:PT1H
BEGIN:VTIMEZONE
TZID:Europe/London
BEGIN:DAYLIGHT
TZOFFSETFROM:+0000
TZOFFSETTO:+0100
TZNAME:BST
DTSTART:20240331T010000
END:DAYLIGHT
BEGIN:STANDARD
TZOFFSETFROM:+0100
TZOFFSETTO:+0000
TZNAME:GMT
DTSTART:20241027T010000
END:STANDARD
BEGIN:DAYLIGHT
TZOFFSETFROM:+0000
TZOFFSETTO:+0100
TZNAME:BST
DTSTART:20250330T010000
END:DAYLIGHT
BEGIN:STANDARD
TZOFFSETFROM:+0100
TZOFFSETTO:+0000
TZNAME:GMT
DTSTART:20251026T010000
END:STANDARD
BEGIN:DAYLIGHT
TZOFFSETFROM:+0000
TZOFFSETTO:+0100
TZNAME:BST
DTSTART:20260329T010000
END:DAYLIGHT
BEGIN:STANDARD
TZOFFSETFROM:+0100
TZOFFSETTO:+0000
TZNAME:GMT
DTSTART:20261025T010000
END:STANDARD
END:VTIMEZONE
BEGIN:VEVENT
DTSTART;TZID=Europe/London:20251208T160000
DTEND;TZID=Europe/London:20251208T200000
DTSTAMP:20260423T175835
CREATED:20251127T160003Z
LAST-MODIFIED:20251127T160003Z
UID:10010420-1765209600-1765224000@calendarioeventos.com
SUMMARY:Taller - Rojo Descolonial
DESCRIPTION:Taller previo a la performance ‘Rojo Descolonial’ en la Casa de Colón\, Las Palmas de Gran Canaria. \nComo desarrollo y transformación de la pieza Rojo Descolonial —activada en espacios museísticos como el CAAM\, el Thyssen-Bornemisza en Madrid y el Museo Nacional de Antropología de la Ciudad de México— la acción se expande en una performance colectiva en la Casa de Colón. La intervención recoge la historia de este insecto en voz de los y las protagonistas actuales de este cultivo en comunidades indígenas de Oaxaca\, México y en las islas de Lanzarote y Gran Canaria (en castellano y en zapoteco\, lengua indígena). \nEntrada gratuita. Aforo limitado. \n(*) Inscripción previa obligatoria\, del 26 de noviembre al 3 de diciembre. \n+ Información en: www.casadecolon.com/actividades
URL:https://calendarioeventos.com/en/evento/taller-rojo-descolonial/2025-12-08/
LOCATION:Casa de Colón\, C. Colón\, 1\, 35001 Las Palmas de Gran Canaria\, Las Palmas
CATEGORIES:Actividades,Arte,Eventos gratuitos,Las Palmas de GC,Taller
ATTACH;FMTTYPE=image/png:https://calendarioeventos.com/wp-content/uploads/2025/11/Screenshot-2025-11-27-at-15-58-51-Agenda_Cultural_Cabildo_de_Gran_Canaria.pdf.avif
END:VEVENT
END:VCALENDAR