BEGIN:VCALENDAR
VERSION:2.0
PRODID:-//Calendario de Eventos Gran Canaria - ECPv6.15.17.1//NONSGML v1.0//EN
CALSCALE:GREGORIAN
METHOD:PUBLISH
X-WR-CALNAME:Calendario de Eventos Gran Canaria
X-ORIGINAL-URL:https://calendarioeventos.com/en
X-WR-CALDESC:Events for Calendario de Eventos Gran Canaria
REFRESH-INTERVAL;VALUE=DURATION:PT1H
X-Robots-Tag:noindex
X-PUBLISHED-TTL:PT1H
BEGIN:VTIMEZONE
TZID:Europe/London
BEGIN:DAYLIGHT
TZOFFSETFROM:+0000
TZOFFSETTO:+0100
TZNAME:BST
DTSTART:20240331T010000
END:DAYLIGHT
BEGIN:STANDARD
TZOFFSETFROM:+0100
TZOFFSETTO:+0000
TZNAME:GMT
DTSTART:20241027T010000
END:STANDARD
BEGIN:DAYLIGHT
TZOFFSETFROM:+0000
TZOFFSETTO:+0100
TZNAME:BST
DTSTART:20250330T010000
END:DAYLIGHT
BEGIN:STANDARD
TZOFFSETFROM:+0100
TZOFFSETTO:+0000
TZNAME:GMT
DTSTART:20251026T010000
END:STANDARD
BEGIN:DAYLIGHT
TZOFFSETFROM:+0000
TZOFFSETTO:+0100
TZNAME:BST
DTSTART:20260329T010000
END:DAYLIGHT
BEGIN:STANDARD
TZOFFSETFROM:+0100
TZOFFSETTO:+0000
TZNAME:GMT
DTSTART:20261025T010000
END:STANDARD
END:VTIMEZONE
BEGIN:VEVENT
DTSTART;TZID=Europe/London:20251109T110000
DTEND;TZID=Europe/London:20251109T130000
DTSTAMP:20260419T225341
CREATED:20251025T113523Z
LAST-MODIFIED:20251025T113523Z
UID:25408-1762686000-1762693200@calendarioeventos.com
SUMMARY:Taller - Teatro musical Frozen
DESCRIPTION:Taller infantil de Teatro musical «Frozen» en La Asociación de Vecinos Bandama de Tafira Alta\, Las Palmas de Gran Canaria. \nPor @tutidisfutti. A partir de 4 años. \n¡Lleno de toda la filosofía de Tutidisfrutti\, música\, teatro\, baile! \n❄️ Donde aprenderemos un baile y una canción con la temática de Frozen. \nContacta para más información. 639 406 691 o por instagram @tutidisfrutti. \n 
URL:https://calendarioeventos.com/en/evento/taller-teatro-musical-frozen/
LOCATION:Asociación Vecinos Bandama Tafira Alta\, C. Párroco Bartolomé Hernández\, 16\, 35017 Tafira Alta\, Las Palmas
CATEGORIES:Actividades,Infantil,Las Palmas de GC,Música,Taller,Teatro
ATTACH;FMTTYPE=image/png:https://calendarioeventos.com/wp-content/uploads/2025/10/Screenshot-2025-10-25-at-12-33-40-Instagram.avif
END:VEVENT
END:VCALENDAR