BEGIN:VCALENDAR
VERSION:2.0
PRODID:-//Calendario de Eventos Gran Canaria - ECPv6.15.17.1//NONSGML v1.0//EN
CALSCALE:GREGORIAN
METHOD:PUBLISH
X-WR-CALNAME:Calendario de Eventos Gran Canaria
X-ORIGINAL-URL:https://calendarioeventos.com/en
X-WR-CALDESC:Events for Calendario de Eventos Gran Canaria
REFRESH-INTERVAL;VALUE=DURATION:PT1H
X-Robots-Tag:noindex
X-PUBLISHED-TTL:PT1H
BEGIN:VTIMEZONE
TZID:Europe/London
BEGIN:DAYLIGHT
TZOFFSETFROM:+0000
TZOFFSETTO:+0100
TZNAME:BST
DTSTART:20250330T010000
END:DAYLIGHT
BEGIN:STANDARD
TZOFFSETFROM:+0100
TZOFFSETTO:+0000
TZNAME:GMT
DTSTART:20251026T010000
END:STANDARD
BEGIN:DAYLIGHT
TZOFFSETFROM:+0000
TZOFFSETTO:+0100
TZNAME:BST
DTSTART:20260329T010000
END:DAYLIGHT
BEGIN:STANDARD
TZOFFSETFROM:+0100
TZOFFSETTO:+0000
TZNAME:GMT
DTSTART:20261025T010000
END:STANDARD
BEGIN:DAYLIGHT
TZOFFSETFROM:+0000
TZOFFSETTO:+0100
TZNAME:BST
DTSTART:20270328T010000
END:DAYLIGHT
BEGIN:STANDARD
TZOFFSETFROM:+0100
TZOFFSETTO:+0000
TZNAME:GMT
DTSTART:20271031T010000
END:STANDARD
END:VTIMEZONE
BEGIN:VEVENT
DTSTART;TZID=Europe/London:20260314T110000
DTEND;TZID=Europe/London:20260314T140000
DTSTAMP:20260423T111603
CREATED:20260305T121226Z
LAST-MODIFIED:20260305T121226Z
UID:64655-1773486000-1773496800@calendarioeventos.com
SUMMARY:Taller - Tote con Punch Needle
DESCRIPTION:Taller de Tote con Punch Needle por Punchi Club en Koru Espacio Creativo\, Las Palmas de Gran Canaria. \nDescubre el punch needle\, una técnica de bordado moderno\, fácil y muy relajante\, perfecta para desconectar y crear con las manos. \nReserva tu plaza por mensaje a @koru_espaciocreativo o en koruespaciocreativo@gmail.com
URL:https://calendarioeventos.com/en/evento/taller-tote-con-punch-needle/
LOCATION:Koru\, C. Víctor Hugo\, 13\, 35006 Las Palmas de Gran Canaria\, Las Palmas
CATEGORIES:Actividades,Arte,Cultura,Las Palmas de GC,Municipio,Taller
ATTACH;FMTTYPE=image/jpeg:https://calendarioeventos.com/wp-content/uploads/2026/03/626295381_17878104870473643_5264432539651534432_n.avif
END:VEVENT
END:VCALENDAR