BEGIN:VCALENDAR
VERSION:2.0
PRODID:-//Calendario de Eventos Gran Canaria - ECPv6.15.17.1//NONSGML v1.0//EN
CALSCALE:GREGORIAN
METHOD:PUBLISH
X-WR-CALNAME:Calendario de Eventos Gran Canaria
X-ORIGINAL-URL:https://calendarioeventos.com/en
X-WR-CALDESC:Events for Calendario de Eventos Gran Canaria
REFRESH-INTERVAL;VALUE=DURATION:PT1H
X-Robots-Tag:noindex
X-PUBLISHED-TTL:PT1H
BEGIN:VTIMEZONE
TZID:Europe/London
BEGIN:DAYLIGHT
TZOFFSETFROM:+0000
TZOFFSETTO:+0100
TZNAME:BST
DTSTART:20250330T010000
END:DAYLIGHT
BEGIN:STANDARD
TZOFFSETFROM:+0100
TZOFFSETTO:+0000
TZNAME:GMT
DTSTART:20251026T010000
END:STANDARD
BEGIN:DAYLIGHT
TZOFFSETFROM:+0000
TZOFFSETTO:+0100
TZNAME:BST
DTSTART:20260329T010000
END:DAYLIGHT
BEGIN:STANDARD
TZOFFSETFROM:+0100
TZOFFSETTO:+0000
TZNAME:GMT
DTSTART:20261025T010000
END:STANDARD
BEGIN:DAYLIGHT
TZOFFSETFROM:+0000
TZOFFSETTO:+0100
TZNAME:BST
DTSTART:20270328T010000
END:DAYLIGHT
BEGIN:STANDARD
TZOFFSETFROM:+0100
TZOFFSETTO:+0000
TZNAME:GMT
DTSTART:20271031T010000
END:STANDARD
END:VTIMEZONE
BEGIN:VEVENT
DTSTART;TZID=Europe/London:20260411T170000
DTEND;TZID=Europe/London:20260411T183000
DTSTAMP:20260420T203744
CREATED:20260331T104109Z
LAST-MODIFIED:20260331T104110Z
UID:68877-1775926800-1775932200@calendarioeventos.com
SUMMARY:Taller — «Totebag Art»
DESCRIPTION:Taller de Totebag Art en Nankurunaisa The Store\, Las Palmas de Gran Canaria. \nTALLER DE TOTEBAG ART (desde cero). En este taller vas a diseñar tu bolsa desde 0: desde el primer boceto hasta el último trazo sobre tela. \nSin necesidad de experiencia\, solo con ganas de crear y disfrutar del proceso. ¿Te apetece venir a crear la tuya? Realiza tu diseño desde el primer boceto hasta el último trazo sobre tela.  \nInscripción por mensaje a esta cuenta
URL:https://calendarioeventos.com/en/evento/taller-totebag-art/
LOCATION:Nankurunaisa\, Av. Juan Carlos I\, 29\, 35019 Las Palmas de Gran Canaria\, Las Palmas
CATEGORIES:Actividades,Arte,Las Palmas de GC,Taller
ATTACH;FMTTYPE=image/jpeg:https://calendarioeventos.com/wp-content/uploads/2026/03/taller-totebag-art-1774953666803.avif
END:VEVENT
END:VCALENDAR