BEGIN:VCALENDAR
VERSION:2.0
PRODID:-//Calendario de Eventos Gran Canaria - ECPv6.15.17.1//NONSGML v1.0//EN
CALSCALE:GREGORIAN
METHOD:PUBLISH
X-WR-CALNAME:Calendario de Eventos Gran Canaria
X-ORIGINAL-URL:https://calendarioeventos.com/en
X-WR-CALDESC:Events for Calendario de Eventos Gran Canaria
REFRESH-INTERVAL;VALUE=DURATION:PT1H
X-Robots-Tag:noindex
X-PUBLISHED-TTL:PT1H
BEGIN:VTIMEZONE
TZID:Europe/London
BEGIN:DAYLIGHT
TZOFFSETFROM:+0000
TZOFFSETTO:+0100
TZNAME:BST
DTSTART:20240331T010000
END:DAYLIGHT
BEGIN:STANDARD
TZOFFSETFROM:+0100
TZOFFSETTO:+0000
TZNAME:GMT
DTSTART:20241027T010000
END:STANDARD
BEGIN:DAYLIGHT
TZOFFSETFROM:+0000
TZOFFSETTO:+0100
TZNAME:BST
DTSTART:20250330T010000
END:DAYLIGHT
BEGIN:STANDARD
TZOFFSETFROM:+0100
TZOFFSETTO:+0000
TZNAME:GMT
DTSTART:20251026T010000
END:STANDARD
BEGIN:DAYLIGHT
TZOFFSETFROM:+0000
TZOFFSETTO:+0100
TZNAME:BST
DTSTART:20260329T010000
END:DAYLIGHT
BEGIN:STANDARD
TZOFFSETFROM:+0100
TZOFFSETTO:+0000
TZNAME:GMT
DTSTART:20261025T010000
END:STANDARD
END:VTIMEZONE
BEGIN:VEVENT
DTSTART;TZID=Europe/London:20251208T170000
DTEND;TZID=Europe/London:20251208T180000
DTSTAMP:20260423T212014
CREATED:20251130T182949Z
LAST-MODIFIED:20251130T182949Z
UID:10010547-1765213200-1765216800@calendarioeventos.com
SUMMARY:Talleres infantiles Navidad Arucas
DESCRIPTION:Talleres infantiles de Navidad en Arucas\, Gran Canaria. \nVuelven nuestros divertidísimos talleres infantiles navideños\, llenos de magia\, creatividad y mucha ilusión. \nToma buena nota 📅 y ven con tus niños y niñas a disfrutar\, aprender y pasarlo en grande en un ambiente lleno de espíritu navideño 🎅🏼🎁 \nHabrá actividades diseñadas especialmente para ellos\, donde podrán crear\, jugar y vivir momentos inolvidables junto a otros peques 🤩. \n🎉 ¡No te lo pierdas! La Navidad en Arucas se vive en familia.
URL:https://calendarioeventos.com/en/evento/talleres-infantiles-navidad-arucas/2025-12-08/
LOCATION:Arucas
CATEGORIES:Actividades,Arucas,Eventos gratuitos,Infantil,Taller
ATTACH;FMTTYPE=image/png:https://calendarioeventos.com/wp-content/uploads/2025/11/Screenshot-2025-11-30-at-18-27-17-Instagram.avif
END:VEVENT
END:VCALENDAR