BEGIN:VCALENDAR
VERSION:2.0
PRODID:-//Calendario de Eventos Gran Canaria - ECPv6.15.17.1//NONSGML v1.0//EN
CALSCALE:GREGORIAN
METHOD:PUBLISH
X-WR-CALNAME:Calendario de Eventos Gran Canaria
X-ORIGINAL-URL:https://calendarioeventos.com/en
X-WR-CALDESC:Events for Calendario de Eventos Gran Canaria
REFRESH-INTERVAL;VALUE=DURATION:PT1H
X-Robots-Tag:noindex
X-PUBLISHED-TTL:PT1H
BEGIN:VTIMEZONE
TZID:Europe/London
BEGIN:DAYLIGHT
TZOFFSETFROM:+0000
TZOFFSETTO:+0100
TZNAME:BST
DTSTART:20240331T010000
END:DAYLIGHT
BEGIN:STANDARD
TZOFFSETFROM:+0100
TZOFFSETTO:+0000
TZNAME:GMT
DTSTART:20241027T010000
END:STANDARD
BEGIN:DAYLIGHT
TZOFFSETFROM:+0000
TZOFFSETTO:+0100
TZNAME:BST
DTSTART:20250330T010000
END:DAYLIGHT
BEGIN:STANDARD
TZOFFSETFROM:+0100
TZOFFSETTO:+0000
TZNAME:GMT
DTSTART:20251026T010000
END:STANDARD
BEGIN:DAYLIGHT
TZOFFSETFROM:+0000
TZOFFSETTO:+0100
TZNAME:BST
DTSTART:20260329T010000
END:DAYLIGHT
BEGIN:STANDARD
TZOFFSETFROM:+0100
TZOFFSETTO:+0000
TZNAME:GMT
DTSTART:20261025T010000
END:STANDARD
END:VTIMEZONE
BEGIN:VEVENT
DTSTART;TZID=Europe/London:20251207T183000
DTEND;TZID=Europe/London:20251207T200000
DTSTAMP:20260425T123817
CREATED:20251013T183953Z
LAST-MODIFIED:20251202T121146Z
UID:16979-1765132200-1765137600@calendarioeventos.com
SUMMARY:Teatro - Como chispa de cañón
DESCRIPTION:Teatro «Como chispa de cañón» en la Casa de la Cultura de la Villa de Moya\, Gran Canaria. \n‘Como chispa de cañón’\, un espectáculo familiar en el que nos adentramos en un viaje en el tiempo hasta la Canarias del siglo XVI para vivir una trepidante historia de la piratas en la que el amor por nuestra tierra se ha de defender. \n 
URL:https://calendarioeventos.com/en/evento/teatro-como-chispa-de-canon/
LOCATION:Casa de la Cultura Villa de Moya\, C. Juan Delgado\, 3\, 35420 Moya\, Las Palmas
CATEGORIES:Cultura,Guía,Infantil,Teatro
ATTACH;FMTTYPE=image/png:https://calendarioeventos.com/wp-content/uploads/2025/10/Screenshot-2025-12-02-at-12-09-49-Instagram.avif
END:VEVENT
END:VCALENDAR