BEGIN:VCALENDAR
VERSION:2.0
PRODID:-//Calendario de Eventos Gran Canaria - ECPv6.15.17.1//NONSGML v1.0//EN
CALSCALE:GREGORIAN
METHOD:PUBLISH
X-WR-CALNAME:Calendario de Eventos Gran Canaria
X-ORIGINAL-URL:https://calendarioeventos.com/en
X-WR-CALDESC:Events for Calendario de Eventos Gran Canaria
REFRESH-INTERVAL;VALUE=DURATION:PT1H
X-Robots-Tag:noindex
X-PUBLISHED-TTL:PT1H
BEGIN:VTIMEZONE
TZID:Europe/London
BEGIN:DAYLIGHT
TZOFFSETFROM:+0000
TZOFFSETTO:+0100
TZNAME:BST
DTSTART:20250330T010000
END:DAYLIGHT
BEGIN:STANDARD
TZOFFSETFROM:+0100
TZOFFSETTO:+0000
TZNAME:GMT
DTSTART:20251026T010000
END:STANDARD
BEGIN:DAYLIGHT
TZOFFSETFROM:+0000
TZOFFSETTO:+0100
TZNAME:BST
DTSTART:20260329T010000
END:DAYLIGHT
BEGIN:STANDARD
TZOFFSETFROM:+0100
TZOFFSETTO:+0000
TZNAME:GMT
DTSTART:20261025T010000
END:STANDARD
BEGIN:DAYLIGHT
TZOFFSETFROM:+0000
TZOFFSETTO:+0100
TZNAME:BST
DTSTART:20270328T010000
END:DAYLIGHT
BEGIN:STANDARD
TZOFFSETFROM:+0100
TZOFFSETTO:+0000
TZNAME:GMT
DTSTART:20271031T010000
END:STANDARD
END:VTIMEZONE
BEGIN:VEVENT
DTSTART;TZID=Europe/London:20260411T200000
DTEND;TZID=Europe/London:20260411T210500
DTSTAMP:20260420T203744
CREATED:20260325T115115Z
LAST-MODIFIED:20260325T115116Z
UID:68078-1775937600-1775941500@calendarioeventos.com
SUMMARY:Teatro - «Con 7 estrellas verdes» ESPAL
DESCRIPTION:Teatro — Con 7 estrellas verdes en el Teatro Víctor Jara\, Santa Lucía de Tirajana\, Gran Canaria. \nEs un espectáculo de auto ficción que fusiona teatro documental\, conferencia performativa y thriller político. A través de la historia de una joven canaria contratada para una película sobre el accidente aéreo de Los Rodeos (1977)\, la obra indaga en la manipulación del relato histórico\, los movimientos independentistas y el papel geopolítico de Canarias. Protagonizada por María de Vigo y Erika Farcy\, la pieza rompe las fronteras entre cine y teatro\, invitando al público a participar como figuración y testigo activo. Una propuesta que ofrece una mirada crítica sobre el turismo\, la precariedad y la identidad canaria contemporánea. \nDuración: 65 min.Edad recomendada: +12 años. \nEntradas en este enlace  \nESPAL 2026
URL:https://calendarioeventos.com/en/evento/teatro-con-7-estrellas-verdes-espal/
LOCATION:Teatro Victor Jara\, C/ Víctor Jara\, s/n\, Vecindario\, Las Palmas\, 35110\, España
CATEGORIES:Cultura,Santa Lucía de Tirajana,Teatro
ATTACH;FMTTYPE=image/jpeg:https://calendarioeventos.com/wp-content/uploads/2026/03/ESPAL_con7estrellasverdes_600x800px-c764mW.avif
END:VEVENT
END:VCALENDAR