BEGIN:VCALENDAR
VERSION:2.0
PRODID:-//Calendario de Eventos Gran Canaria - ECPv6.15.17.1//NONSGML v1.0//EN
CALSCALE:GREGORIAN
METHOD:PUBLISH
X-WR-CALNAME:Calendario de Eventos Gran Canaria
X-ORIGINAL-URL:https://calendarioeventos.com/en
X-WR-CALDESC:Events for Calendario de Eventos Gran Canaria
REFRESH-INTERVAL;VALUE=DURATION:PT1H
X-Robots-Tag:noindex
X-PUBLISHED-TTL:PT1H
BEGIN:VTIMEZONE
TZID:Europe/London
BEGIN:DAYLIGHT
TZOFFSETFROM:+0000
TZOFFSETTO:+0100
TZNAME:BST
DTSTART:20240331T010000
END:DAYLIGHT
BEGIN:STANDARD
TZOFFSETFROM:+0100
TZOFFSETTO:+0000
TZNAME:GMT
DTSTART:20241027T010000
END:STANDARD
BEGIN:DAYLIGHT
TZOFFSETFROM:+0000
TZOFFSETTO:+0100
TZNAME:BST
DTSTART:20250330T010000
END:DAYLIGHT
BEGIN:STANDARD
TZOFFSETFROM:+0100
TZOFFSETTO:+0000
TZNAME:GMT
DTSTART:20251026T010000
END:STANDARD
BEGIN:DAYLIGHT
TZOFFSETFROM:+0000
TZOFFSETTO:+0100
TZNAME:BST
DTSTART:20260329T010000
END:DAYLIGHT
BEGIN:STANDARD
TZOFFSETFROM:+0100
TZOFFSETTO:+0000
TZNAME:GMT
DTSTART:20261025T010000
END:STANDARD
END:VTIMEZONE
BEGIN:VEVENT
DTSTART;TZID=Europe/London:20251109T120000
DTEND;TZID=Europe/London:20251109T133000
DTSTAMP:20260419T225341
CREATED:20251024T080914Z
LAST-MODIFIED:20251024T080914Z
UID:21069-1762689600-1762695000@calendarioeventos.com
SUMMARY:Teatro - El sonajero de Polichinela
DESCRIPTION:Teatro «El sonajero de Polichinela» en el Auditorio de Teror\, Gran Canaria. \nEl señor Pantalone Buitroni\, viejo avaro y dueño del vertedero de Villa Verde\, se ha quedado sin espacio para acumular más basura en sus terrenos. \nPor otro lado\, su sensible hijo Flaminio se quiere prometer en matrimonio con Cisneretta\, la hija ecologista del afamado Dottore Torino. Los jóvenes con ayuda de sus sirvientes intentarán demostrar a sus padres que las cosas han cambiado desde el siglo XVI. Cuando parece que todo está perdido\, los criados hallan por casualidad un valioso sonajero desaparecido que resucitará el niño que todos habían olvidado y cambiará por completo los acontecimientos de la historia. \nUna trama de giros inesperados que pone en valor el papel de la mujer\, la educación\, la inclusión\, la dignidad laboral\, la justicia\, el respeto a la naturaleza\, la unión y la igualdad (Objetivos de desarrollo sostenible – Agenda 2030). \nUn viaje a través del tiempo y del arte. Ópera y comedia para toda la familia. \nDuración: 80 min. (aprox.) \nEntradas en este enlace. \n 
URL:https://calendarioeventos.com/en/evento/teatro-el-sonajero-de-polichinela/
LOCATION:Auditorio de Teror\, Plaza de Sintes\, s/n\, 35330 Teror\, Las Palmas
CATEGORIES:Ópera,Cultura,Humor,Infantil,Teatro,Teror
ATTACH;FMTTYPE=image/jpeg:https://calendarioeventos.com/wp-content/uploads/2025/10/Cartel-EL-SONAJERO_page-0001-preview.avif
END:VEVENT
END:VCALENDAR